Workbook

Sheet 작성매뉴얼
J2: 국방기술진흥연구소 기업 DB 등록 신청서
B6: 1 | D6: 회사 정보
B9: 회사 소개
B10: 회사명
B11: 사업자등록번호 | M11: 000-00-00000 | X11: 대표 | AE11: 홍길동
B12: 설립일 | M12: 36892 | X12: 업력 | AE12: =2021-YEAR(M12)+1 -> 21
B13: 주소
B14: (회사전경/로고 등 이미지) | M14: (소개 내용)
B23: 연락 정보
B24: 담당자 1 | J24: 홍길동 | U24: 담당자 2 | AC24: 가나다
B25: 직책 | J25: 대표이사 | U25: 직책 | AC25: 부장
B26: 연락처(사무실) | J26: 000-000-0000 | U26: 연락처(사무실) | AC26: 000-000-0000
B27: 연락처(휴대전화) | J27: 000-0000-0000 | U27: 연락처(휴대전화) | AC27: 000-0000-0000
B28: E-mail | J28: 0000@0000.co.kr | U28: E-mail | AC28: 0000@0000.co.kr
B30: 인력 정보 | U30: 주요 취득 인증
B31: 구분 | J31: 인원(명) | U31: 인증명 | AC31: 기간
B32: 수출 | U32: ISO9001 | AC32: 2020.07.01. ~ 2023.06.30.
B33: 연구개발
B34: 기타 사무직
B35: 생산라인
B36: 기타
B37: 총 원 | J37: =+SUM(J32:S36) -> 0
B40: 매출 성과(USD 백만) | U40: 주요 수출 지역
B41: 구분 | H41: 2020 | N41: 2021 | U41: 국가(영문) | AC41: 비중(%)
B42: 연간 매출 | H42: 78 | N42: 88 | U42: United States | AC42: 0.05
U43: France
B44: 연간 수출 | H44: 5 | N44: 27
B46: 수출 비중 | H46: =+H44/H42 -> 0.064102564 | N46: =+N44/N42 -> 0.30681818 | U46: 향후 수출 희망 지역
U47: 순위 | X47: 권역 | AC47: 국가(영문)
U48: 1 | AC48: United States
U49: 2 | AC49: Turkey
U50: 3
B52: 사업 분야 (복수 선택)
B53: 분야 | I53: 상세 구분
B54: 기동1 | I54: =IFERROR(+VLOOKUP(B54,'(참고)사업수행분야'!$B$2:$C$17,2,FALSE)," " ) -> 전차, 장갑차 (IFV, MRAP, 험비류 포함) 및 관련 부품 등
B55: 기동2 | I55: =IFERROR(+VLOOKUP(B55,'(참고)사업수행분야'!$B$2:$C$17,2,FALSE)," " ) -> 군용트럭, 급수차 및 관련 부품 등
B56: 화력2 | I56: =IFERROR(+VLOOKUP(B56,'(참고)사업수행분야'!$B$2:$C$17,2,FALSE)," " ) -> 대포, 총기 및 관련 부품 (피카트니 레일, 광학장비 포함) 등
I57: =IFERROR(+VLOOKUP(B57,'(참고)사업수행분야'!$B$2:$C$17,2,FALSE)," " )
B59: 주요 사업 성과(국내외)
B60: 년도(최신순) | G60: 국가명(영문) | M60: 납품처 | X60: 납품품목 | AI60: 비고
...

Sheet 1. (국문)신청서
K3: 방산물자교역지원센터·국방기술진흥연구소 기업 DB 등록 신청서
C8: 1 | E8: 회사 정보
C11: 회사 소개
C12: 회사명
C13: 사업자등록번호 | Y13: 대표
C14: 설립일 | Y14: 업력
C15: 주소
C16: 홈페이지
C26: 연락 정보
C27: 담당자 1 | V27: 담당자 2
C28: 직책 | V28: 직책
C29: 연락처(사무실) | V29: 연락처(사무실)
C30: 연락처(휴대전화) | V30: 연락처(휴대전화)
C31: E-mail | V31: E-mail
C33: 인력 정보 | V33: 주요 취득 인증
C34: 구분 | K34: 인원(명) | V34: 인증명 | AD34: 기간
C35: 수출
C36: 연구개발
C37: 기타 사무직
C38: 생산라인
C39: 기타
C40: 총 원 | K40: =+SUM(K35:T39) -> 0
C43: 매출 성과(USD 백만) | V43: 주요 수출 지역
C44: 구분 | I44: 2020 | O44: 2021 | V44: 국가(영문) | AD44: 비중(%)
C45: 연간 매출
C47: 연간 수출
C49: 수출 비중 | I49: =+I47/I45 -> #DIV/0! | O49: =+O47/O45 -> #DIV/0! | V49: 향후 수출 희망 지역
V50: 순위 | Y50: 권역 | AD50: 국가(영문)
V51: 1
V52: 2
V53: 3
C55: 국기연 지원사업 참여 이력(부품국산화, ICT, 국방벤처, 무기체계개조개발, 글로벌 방산강소기업육성 등)
C56: 사업명 | M56: 참여 기간 | V56: 과제(협약) 명 | AL56: 결과
C63: 사업 분야 (복수 선택)
C64: 분야 | J64: 상세 구분
J68: =IFERROR(+VLOOKUP(C68,'(참고)사업수행분야'!$B$2:$C$17,2,FALSE)," " )
C70: 주요 사업 성과(국내외)
C71: 년도(최신순) | H71: 국가명(영문) | N71: 납품처 | Y71: 납품품목 | AJ71: 비고
C79: 2 | E79: 품목 정보
C82: ① | E82: 제품명 | M82: HS Code (6단위) | Q82: 제품 설명 | AJ82: 수출가능유형
...

Sheet 2. (영문)신청서
K3: Registration Form - Korean Defense Company DB -
C8: 1 | E8: Company Info.
C11: Company Introduction
C12: Company Name
C13: Business Registraion No. | Y13: CEO
C14: Date of Establishment | Y14: Business Period
C15: Address
C16: Webpage
C26: Contact Point
C27: POC1 | V27: POC1
C28: Title | V28: Title
C29: Phone | V29: Phone
C30: Mobile | V30: Mobile
C31: E-mail | V31: E-mail
C33: Manpower | V33: Certicicate
C34: Type | K34: Headcount | V34: Name | AD34: Period
C35: Exprot
C36: R&D
C37: Rest Officers
C38: Manufacture
C39: Etc
C40: Total | K40: =+SUM(K35:T39) -> 0
C43: Sales & Exprot Info(USD Mil) | V43: Major Export Market
C44: Category | I44: 2020 | O44: 2021 | V44: Country | AD44: Percentage(%)
C45: Annual Sales
C47: Annual Export
C49: Rate of Export | I49: =+I47/I45 -> #DIV/0! | O49: =+O47/O45 -> #DIV/0! | V49: Future Export Target Market
V50: Rank | Y50: Region | AD50: Country
V51: 1
V52: 2
V53: 3
C55: Business Category
C56: Field | J56: Detaled explanation
J59: =IFERROR(+VLOOKUP(C59,'(참고)사업수행분야'!D26:E40,2,FALSE)," " )
J60: =IFERROR(+VLOOKUP(C60,'(참고)사업수행분야'!D27:E41,2,FALSE)," " )
C62: Business Reference
C63: Year(recent) | H63: Country | N63: Vendor(Buyer) | Y63: Item | AJ63: Note
C71: 2 | E71: Item Info
C74: ① | E74: Product Name | M74: HS Code (6단위) | Q74: Explanation | AJ74: Type of Export
Q75: Specification | AA75: Descriptive Features
...

Sheet 3. 참가신청서 및 개인정보 수집 이용동의서
C3: 개인정보 수집 이용 동의서
C6: ■ 개인정보 수집 및 이용에 대한 동의
C8: ㅇ 개인정보의 수집, 이용 목적 : 거래대금지급처리(금융실명거래 및 비밀보장에 관한 법률 제3조, 시행령 제3조), 세무신고 처리
C9: (소득세법 제 144조, 소득세법 제 145조, 시행규칙 제 100조, 부가가치세법 제32조, 시행령 제67조)
C11: ㅇ 수집하는 개인정보의 항목 :
C12: ▶ 필수 항목
C13: - 거래자정보 : 이용자의 식별을 위한 정보[성명, 주민등록번호(또는 외국인등록번호), 자택주소]
C14: - 계좌정보 : 계좌이체를 위한 정보[은행명, 예금주, 계좌번호]
C15: ▶선택 항목 없음
C17: ㅇ 개인정보의 보유 및 이용기간 : 최종거래 익익년도부터 10년이 되는 날까지
C18: 단, 법률이 정하는 바에 따라 해지후에도 일정기간 보유할 수 있습니다.
C20: ㅇ 개인정보 수집에 대해 동의하지 않으실 수 있습니다. 다만, 필수항목의 경우 거래대금지급, 세무신고처리 등을 위해
... C42: ㅇ 개인정보의 수집 당시 정보주체의 이용·제공 동의 범위를 초과하여 이용 제공하지 않습니다.
J47: 성 명 : (서명 또는 인)
J48: (자필성명기재)
J49: 생년월일 :

Sheet (참고)사업수행분야
B1: 사업 분야 (복수선택)
B2: 사업분야 | C2: 상세 구분
B3: 기동1 | C3: 전차, 장갑차 (IFV, MRAP, 험비류 포함) 및 관련 부품 등
B4: 기동2 | C4: 군용트럭, 급수차 및 관련 부품 등
B5: 항공1 | C5: 군용 비행기 (고정익) 및 관련 부품 (프로펠러, 엔진 포함) 등
B6: 항공2 | C6: 군용헬기 및 관련 부품(프로펠러, 엔진 포함) 등
B7: 함정 | C7: 군함, 및 관련 부품 (엔진, 잠망경) 등
B8: 화력1 | C8: 화약, 폭약, 탄약 및 관련 부품 등
B9: 화력2 | C9: 대포, 총기 및 관련 부품 (피카트니 레일, 광학장비 포함) 등
B10: 미사일 | C10: 어뢰 및 로켓 (로켓/화염/유탄발사기, 발사관 및 발사장치) 등
B11: 위생/화생방 | C11: 제독차량, 군용 엠뷸런스, 기타 화생방 품목 등
B12: 통신/전자 | C12: 군용 통신장비 (케이블 포함), 지휘 및 네트워크 시스템 등
B13: 정찰/드론 | C13: 군용 드론 (ISR 목적 포함), 정찰/감시 시스템 등
... B34: Others | C34: Other materials, parts, components, equipments

Sheet (참고)제품 분류
A1: Platform Type | B1: Primary Platforms | C1: Primary Systems | D1: Complementary Systems | E1: Subsystems | F1: Smaller Components
A2: 적용가능 무기체계 분류 | B2: 적용가능 무기체계 | C2: 품목이 속하는 1차 세부 분류 | D2: 2차 세부 분류 | E2: 부체계 / 하위체계 단위 분류 | F2: 소재/부품 단위 분류
A3: Artillery | B3: Air and Missile Defense Vehicle | C3: Airframe | D3: Air & Missile Defense C2 | E3: Air Data Systems | F3: Actuators
A4: Fixed-Wing | B4: Ambulance | C4: Avionics | D4: Air Search Radar | E4: Aircraft Weapon Launchers and Racks | F4: Amplifiers
A5: Grd/Transportable | B5: Amphibious ship | C5: C2 Systems | D5: Aircraft Data Acquisition | E5: Batteries | F5: Ancillaries
A6: Ground Vehicle | B6: Armored Personnel Carrier (APC) | C6: EO/IR Systems | D6: Aircraft Human Machine Interface | E6: Braking Systems | F6: Antenna
A7: Ground/Fixed | B7: Artillery | C7: HM&E | D7: Aircraft Management Systems | E7: Cockpit and Console Instruments | F7: Arming & Fuzing
A8: Helicopter | B8: Attack Helicopter | C8: MilComm | D8: Anti-Mine & Navigation Sonar | E8: Compressors | F8: Cabling and Connectors
A9: Ligh'r than-Air Craft | B9: Attack Sub | C9: Missiles | D9: Armor | E9: Data Monitoring & Recording Systems | F9: Caterpillar Track
A10: Manportable | B10: Ballistic Sub | C10: Precision Guided Weapons | D10: Avionics Utilities | E10: Electric Actuation Control | F10: Chaff, Flares, and Expendable Decoys
A11: Multiple | B11: C2ISR UAV | C11: Propulsion Systems | D11: Battle Management C2 | E11: Electrical/Power Management Systems | F11: Cooling Systems
A12: Multiple | B12: C2ISR UGV | C12: Radar | D12: Coastal Surveillance Radar | E12: Engine Control Electronics | F12: Electronics Housing and Mounting
... A14: Space Systems | B14: Carrier | C14: Vehicle Platform | D14: Counter-Battery Radar | E14: Fiber Optic Equipment | F14: Explosives
A15: Submarine | B15: Coastal/Patrol | D15: Cyber Security Systems | E15: Flight Control Systems (Electronic) | F15: Fabricated Metals and Fabrication Equipment
A16: Tilt-Rotor | B16: Combat Engineering Vehicle | D16: Datacenter Infrastructure | E16: Flight Management Systems | F16: Field Equipment
B17: Command Post Vehicle | D17: Datalinks | E17: Fuel Management & Gauging | F17: Fuel/Propellant Lines
B18: Corvette | D18: Early Warning Radar | E18: Fuel Systems | F18: Fuel/Propellant Pumps
B19: Destroyer | D19: Electric and Hybrid Engines | E19: Generators | F19: Fuel/Propellant Valves
B20: EW Helicopter | D20: ESM | E20: Graphics Processing | F20: Grenades
B21: Fixed Site | D21: Fire Control Systems | E21: Hydraulic Systems | F21: Handling Equipment
B22: Fixed-Wing EW Aircraft | D22: Flight Control System | E22: Information Security | F22: Helmet Mounted Displays
B23: Fixed-Wing Ground Support | D23: Gas/Diesel Engines | E23: IR Element | F23: Large Caliber Ammunition
B24: Fixed-Wing Multirole Combat | D24: Ground Surveillance Radar | E24: Laser Element | F24: Military Clothing
B25: Fixed-Wing Tanker | D25: Homeland Security C2 | E25: Missile Frame | F25: Munitions Components
B26: Fixed-Wing Trainer | D26: IFF Systems | E26: Mission Processor | F26: Operator Consoles & Displays
B27: Fixed-Wing Transport | D27: Integrated Avionics Systems | E27: Mission Software | F27: Personal Combat Protection
B28: Frigate | D28: Intercoms | E28: Non-Mission Software | F28: Personal NBC Defense
... B37: Logistics/Support | D37: Navigation Radar | E37: Propulsion Associated Displays | F37: Warhead
B38: MALE/HALE UAV | D38: Navigation Systems | E38: Propulsion Management Accessories
B39: Manportable | D39: Night Vision | E39: Receiver
B40: Mine Warfare Ship | D40: Nose Landing System | E40: Rockets and Small Air-Breathing Engines
B41: Mine Warfare UGV | D41: Other Sonar | E41: Simulation Hardware
B42: Mine Warfare USV | D42: Port Security Sonar | E42: Simulation Software
B43: Mine Warfare UUV | D43: Primary Gun | E43: Small Arms
B44: Mine Warfare Vehicle | D44: Propulsion Management Systems | E44: Sonar Array
B45: Multiple Aircraft | D45: Radar Altimeter | E45: Sonar Housing
B46: Multiple Non-Combat UGV | D46: SATCOM Payloads | E46: Stores Management Systems
B47: Multiple Platforms | D47: SATCOM Terminals | E47: T/R System
B48: Multiple Ships/Submarines | D48: Search/Track/Tgt EO/IR | E48: Transducer/hydrophone
B49: Multirole Combat UAV | D49: Secondary Gun | E49: Transmitter
...

Sheet 통합관리시트_출력용
B3: ▣ 기업 data 통합 관리 시트
B5: No. | C5: 국문
C6: 회사명 | D6: 사업자 등록번호 | E6: 연락 정보 | O6: 매출 성과(USD 백만) | S6: 사업분야
E7: 담당자1 | J7: 담당자2 | O7: 연간 매출 | Q7: 연간수출 | S7: 대분류 | T7: 제품명 | U7: HS CODE | V7: 제품설명
E8: 이름 | F8: 직책 | G8: 연락처(사무실) | H8: 연락처(휴대전화) | I8: e-mail | J8: 이름 | K8: 직책 | L8: 연락처(사무실) | M8: 연락처(휴대전화) | N8: e-mail | O8: 2020 | P8: 2021 | Q8: 2020 | R8: 2021 | V8: 재원 | W8: 수출가능유형
B9: 1 | C9: =+'1. (국문)신청서'!$N$12:$N$12 -> 0 | D9: =+'1. (국문)신청서'!$N$13 -> 0 | E9: =+'1. (국문)신청서'!$K$27 -> 0 | F9: =+'1. (국문)신청서'!$K$28 -> 0 | G9: =+'1. (국문)신청서'!$K$29 -> 0 | H9: =+'1. (국문)신청서'!$K$30 -> 0 | I9: =+'1. (국문)신청서'!$K$31 -> 0 | J9: =+'1. (국문)신청서'!$AD$27 -> 0 | K9: =+'1. (국문)신청서'!$AD$28 -> 0 | L9: =+'1. (국문)신청서'!$AD$29 -> 0 | M9: =+'1. (국문)신청서'!$AD$30 -> 0 | N9: =+'1. (국문)신청서'!$AD$31 -> 0 | O9: =+'1. (국문)신청서'!$I$45 -> 0 | P9: =+'1. (국문)신청서'!$O$45 -> 0 | Q9: =+'1. (국문)신청서'!$I$47 -> 0 | R9: =+'1. (국문)신청서'!$O$47 -> 0 | S9: ='1. (국문)신청서'!$G$85 -> 0 | T9: =+'1. (국문)신청서'!$C$84 -> 0 | U9: =+'1. (국문)신청서'!$M$84 -> 0 | V9: =+'1. (국문)신청서'!$Q$84 -> 0 | W9: =+'1. (국문)신청서'!$AJ$84 -> 0
B10: 2 | C10: =+'1. (국문)신청서'!$N$12:$N$12 -> 0 | D10: =+'1. (국문)신청서'!$N$13 -> 0 | E10: =+'1. (국문)신청서'!$K$27 -> 0 | F10: =+'1. (국문)신청서'!$K$28 -> 0 | G10: =+'1. (국문)신청서'!$K$29 -> 0 | H10: =+'1. (국문)신청서'!$K$30 -> 0 | I10: =+'1. (국문)신청서'!$K$31 -> 0 | J10: =+'1. (국문)신청서'!$AD$27 -> 0 | K10: =+'1. (국문)신청서'!$AD$28 -> 0 | L10: =+'1. (국문)신청서'!$AD$29 -> 0 | M10: =+'1. (국문)신청서'!$AD$30 -> 0 | N10: =+'1. (국문)신청서'!$AD$31 -> 0 | O10: =+'1. (국문)신청서'!$I$45 -> 0 | P10: =+'1. (국문)신청서'!$O$45 -> 0 | Q10: =+'1. (국문)신청서'!$I$47 -> 0 | R10: =+'1. (국문)신청서'!$O$47 -> 0 | S10: ='1. (국문)신청서'!$G$85 -> 0 | T10: =+'1. (국문)신청서'!$C$84 -> 0 | U10: =+'1. (국문)신청서'!$M$84 -> 0 | V10: =+'1. (국문)신청서'!$Q$84 -> 0 | W10: =+'1. (국문)신청서'!$AJ$85 -> 0
B11: 3 | C11: =+'1. (국문)신청서'!$N$12:$N$12 -> 0 | D11: =+'1. (국문)신청서'!$N$13 -> 0 | E11: =+'1. (국문)신청서'!$K$27 -> 0 | F11: =+'1. (국문)신청서'!$K$28 -> 0 | G11: =+'1. (국문)신청서'!$K$29 -> 0 | H11: =+'1. (국문)신청서'!$K$30 -> 0 | I11: =+'1. (국문)신청서'!$K$31 -> 0 | J11: =+'1. (국문)신청서'!$AD$27 -> 0 | K11: =+'1. (국문)신청서'!$AD$28 -> 0 | L11: =+'1. (국문)신청서'!$AD$29 -> 0 | M11: =+'1. (국문)신청서'!$AD$30 -> 0 | N11: =+'1. (국문)신청서'!$AD$31 -> 0 | O11: =+'1. (국문)신청서'!$I$45 -> 0 | P11: =+'1. (국문)신청서'!$O$45 -> 0 | Q11: =+'1. (국문)신청서'!$I$47 -> 0 | R11: =+'1. (국문)신청서'!$O$47 -> 0 | S11: ='1. (국문)신청서'!$G$85 -> 0 | T11: =+'1. (국문)신청서'!$C$84 -> 0 | U11: =+'1. (국문)신청서'!$M$84 -> 0 | V11: =+'1. (국문)신청서'!$Q$84 -> 0 | W11: =+'1. (국문)신청서'!$AJ$86 -> 0
B12: 4 | C12: =+'1. (국문)신청서'!$N$12:$N$12 -> 0 | D12: =+'1. (국문)신청서'!$N$13 -> 0 | E12: =+'1. (국문)신청서'!$K$27 -> 0 | F12: =+'1. (국문)신청서'!$K$28 -> 0 | G12: =+'1. (국문)신청서'!$K$29 -> 0 | H12: =+'1. (국문)신청서'!$K$30 -> 0 | I12: =+'1. (국문)신청서'!$K$31 -> 0 | J12: =+'1. (국문)신청서'!$AD$27 -> 0 | K12: =+'1. (국문)신청서'!$AD$28 -> 0 | L12: =+'1. (국문)신청서'!$AD$29 -> 0 | M12: =+'1. (국문)신청서'!$AD$30 -> 0 | N12: =+'1. (국문)신청서'!$AD$31 -> 0 | O12: =+'1. (국문)신청서'!$I$45 -> 0 | P12: =+'1. (국문)신청서'!$O$45 -> 0 | Q12: =+'1. (국문)신청서'!$I$47 -> 0 | R12: =+'1. (국문)신청서'!$O$47 -> 0 | S12: ='1. (국문)신청서'!$G$85 -> 0 | T12: =+'1. (국문)신청서'!$C$84 -> 0 | U12: =+'1. (국문)신청서'!$M$84 -> 0 | V12: =+'1. (국문)신청서'!$Q$84 -> 0 | W12: =+'1. (국문)신청서'!$AJ$87 -> 0
B13: 5 | C13: =+'1. (국문)신청서'!$N$12:$N$12 -> 0 | D13: =+'1. (국문)신청서'!$N$13 -> 0 | E13: =+'1. (국문)신청서'!$K$27 -> 0 | F13: =+'1. (국문)신청서'!$K$28 -> 0 | G13: =+'1. (국문)신청서'!$K$29 -> 0 | H13: =+'1. (국문)신청서'!$K$30 -> 0 | I13: =+'1. (국문)신청서'!$K$31 -> 0 | J13: =+'1. (국문)신청서'!$AD$27 -> 0 | K13: =+'1. (국문)신청서'!$AD$28 -> 0 | L13: =+'1. (국문)신청서'!$AD$29 -> 0 | M13: =+'1. (국문)신청서'!$AD$30 -> 0 | N13: =+'1. (국문)신청서'!$AD$31 -> 0 | O13: =+'1. (국문)신청서'!$I$45 -> 0 | P13: =+'1. (국문)신청서'!$O$45 -> 0 | Q13: =+'1. (국문)신청서'!$I$47 -> 0 | R13: =+'1. (국문)신청서'!$O$47 -> 0 | S13: ='1. (국문)신청서'!$G$85 -> 0 | T13: =+'1. (국문)신청서'!$C$84 -> 0 | U13: =+'1. (국문)신청서'!$M$84 -> 0 | V13: =+'1. (국문)신청서'!$Q$84 -> 0 | W13: =+'1. (국문)신청서'!$AJ$97 -> 0
B14: 6 | C14: =+'1. (국문)신청서'!$N$12:$N$12 -> 0 | D14: =+'1. (국문)신청서'!$N$13 -> 0 | E14: =+'1. (국문)신청서'!$K$27 -> 0 | F14: =+'1. (국문)신청서'!$K$28 -> 0 | G14: =+'1. (국문)신청서'!$K$29 -> 0 | H14: =+'1. (국문)신청서'!$K$30 -> 0 | I14: =+'1. (국문)신청서'!$K$31 -> 0 | J14: =+'1. (국문)신청서'!$AD$27 -> 0 | K14: =+'1. (국문)신청서'!$AD$28 -> 0 | L14: =+'1. (국문)신청서'!$AD$29 -> 0 | M14: =+'1. (국문)신청서'!$AD$30 -> 0 | N14: =+'1. (국문)신청서'!$AD$31 -> 0 | O14: =+'1. (국문)신청서'!$I$45 -> 0 | P14: =+'1. (국문)신청서'!$O$45 -> 0 | Q14: =+'1. (국문)신청서'!$I$47 -> 0 | R14: =+'1. (국문)신청서'!$O$47 -> 0 | S14: ='1. (국문)신청서'!$G$85 -> 0 | T14: =+'1. (국문)신청서'!$C$84 -> 0 | U14: =+'1. (국문)신청서'!$M$84 -> 0 | V14: =+'1. (국문)신청서'!$Q$84 -> 0 | W14: =+'1. (국문)신청서'!$AJ$98 -> 0
B15: 7 | C15: =+'1. (국문)신청서'!$N$12:$N$12 -> 0 | D15: =+'1. (국문)신청서'!$N$13 -> 0 | E15: =+'1. (국문)신청서'!$K$27 -> 0 | F15: =+'1. (국문)신청서'!$K$28 -> 0 | G15: =+'1. (국문)신청서'!$K$29 -> 0 | H15: =+'1. (국문)신청서'!$K$30 -> 0 | I15: =+'1. (국문)신청서'!$K$31 -> 0 | J15: =+'1. (국문)신청서'!$AD$27 -> 0 | K15: =+'1. (국문)신청서'!$AD$28 -> 0 | L15: =+'1. (국문)신청서'!$AD$29 -> 0 | M15: =+'1. (국문)신청서'!$AD$30 -> 0 | N15: =+'1. (국문)신청서'!$AD$31 -> 0 | O15: =+'1. (국문)신청서'!$I$45 -> 0 | P15: =+'1. (국문)신청서'!$O$45 -> 0 | Q15: =+'1. (국문)신청서'!$I$47 -> 0 | R15: =+'1. (국문)신청서'!$O$47 -> 0 | S15: ='1. (국문)신청서'!$G$85 -> 0 | T15: =+'1. (국문)신청서'!$C$84 -> 0 | U15: =+'1. (국문)신청서'!$M$84 -> 0 | V15: =+'1. (국문)신청서'!$Q$84 -> 0 | W15: =+'1. (국문)신청서'!$AJ$99 -> 0
B16: 8 | C16: =+'1. (국문)신청서'!$N$12:$N$12 -> 0 | D16: =+'1. (국문)신청서'!$N$13 -> 0 | E16: =+'1. (국문)신청서'!$K$27 -> 0 | F16: =+'1. (국문)신청서'!$K$28 -> 0 | G16: =+'1. (국문)신청서'!$K$29 -> 0 | H16: =+'1. (국문)신청서'!$K$30 -> 0 | I16: =+'1. (국문)신청서'!$K$31 -> 0 | J16: =+'1. (국문)신청서'!$AD$27 -> 0 | K16: =+'1. (국문)신청서'!$AD$28 -> 0 | L16: =+'1. (국문)신청서'!$AD$29 -> 0 | M16: =+'1. (국문)신청서'!$AD$30 -> 0 | N16: =+'1. (국문)신청서'!$AD$31 -> 0 | O16: =+'1. (국문)신청서'!$I$45 -> 0 | P16: =+'1. (국문)신청서'!$O$45 -> 0 | Q16: =+'1. (국문)신청서'!$I$47 -> 0 | R16: =+'1. (국문)신청서'!$O$47 -> 0 | S16: ='1. (국문)신청서'!$G$85 -> 0 | T16: =+'1. (국문)신청서'!$C$84 -> 0 | U16: =+'1. (국문)신청서'!$M$84 -> 0 | V16: =+'1. (국문)신청서'!$Q$84 -> 0 | W16: =+'1. (국문)신청서'!$AJ$100 -> 0
B17: 9
B18: 10
B19: 11
B20: 12
B21: 13
B22: 14
B26: No. | C26: 영문
C27: Company Name | D27: Business Registration NO. | E27: Contact Points | O27: =+'2. (영문)신청서'!#REF! -> #REF! | S27: Business info
E28: POC1 | J28: POC2 | O28: =+'2. (영문)신청서'!#REF! -> #REF! | Q28: =+'2. (영문)신청서'!#REF! -> #REF! | S28: Field | T28: Item | U28: HS CODE | V28: Product info
E29: Name | F29: Title | G29: Phone | H29: Mobile | I29: e-mail | J29: Name | K29: Title | L29: Phone | M29: Mobile | N29: e-mail | O29: 2020 | P29: 2021 | Q29: 2020 | R29: 2021 | V29: Spec. | W29: Type of Export
B30: 1 | C30: =+'2. (영문)신청서'!$N$12 -> 0 | D30: =+'2. (영문)신청서'!$N$13 -> 0 | E30: =+'2. (영문)신청서'!$K$27 -> 0 | F30: =+'2. (영문)신청서'!$K$28 -> 0 | G30: =+'2. (영문)신청서'!$K$29 -> 0 | H30: =+'2. (영문)신청서'!$K$30 -> 0 | I30: =+'2. (영문)신청서'!$K$31 -> 0 | J30: =+'2. (영문)신청서'!$AD$27 -> 0 | K30: =+'2. (영문)신청서'!$AD$28 -> 0 | L30: =+'2. (영문)신청서'!$AD$29 -> 0 | M30: =+'2. (영문)신청서'!$AD$30 -> 0 | N30: =+'2. (영문)신청서'!$AD$31 -> 0 | O30: =+'2. (영문)신청서'!$I$45 -> 0 | P30: =+'2. (영문)신청서'!$O$45 -> 0 | Q30: =+'2. (영문)신청서'!$I$47 -> 0 | R30: =+'2. (영문)신청서'!$O$47 -> 0 | S30: =+'2. (영문)신청서'!$G$77 -> Others | T30: =+'2. (영문)신청서'!$C$76 -> 0 | U30: =+'2. (영문)신청서'!$M$76 -> 0 | V30: =+'2. (영문)신청서'!$Q$76 -> 0 | W30: =+'2. (영문)신청서'!$AJ$76 -> 0
B31: 2 | C31: =+'2. (영문)신청서'!$N$12 -> 0 | D31: =+'2. (영문)신청서'!$N$13 -> 0 | E31: =+'2. (영문)신청서'!$K$27 -> 0 | F31: =+'2. (영문)신청서'!$K$28 -> 0 | G31: =+'2. (영문)신청서'!$K$29 -> 0 | H31: =+'2. (영문)신청서'!$K$30 -> 0 | I31: =+'2. (영문)신청서'!$K$31 -> 0 | J31: =+'2. (영문)신청서'!$AD$27 -> 0 | K31: =+'2. (영문)신청서'!$AD$28 -> 0 | L31: =+'2. (영문)신청서'!$AD$29 -> 0 | M31: =+'2. (영문)신청서'!$AD$30 -> 0 | N31: =+'2. (영문)신청서'!$AD$31 -> 0 | O31: =+'2. (영문)신청서'!$I$45 -> 0 | P31: =+'2. (영문)신청서'!$O$45 -> 0 | Q31: =+'2. (영문)신청서'!$I$47 -> 0 | R31: =+'2. (영문)신청서'!$O$47 -> 0 | S31: =+'2. (영문)신청서'!$G$77 -> Others | T31: =+'2. (영문)신청서'!$C$76 -> 0 | U31: =+'2. (영문)신청서'!$M$76 -> 0 | V31: =+'2. (영문)신청서'!$Q$76 -> 0 | W31: =+'2. (영문)신청서'!$AJ$76 -> 0
B32: 3 | C32: =+'2. (영문)신청서'!$N$12 -> 0 | D32: =+'2. (영문)신청서'!$N$13 -> 0 | E32: =+'2. (영문)신청서'!$K$27 -> 0 | F32: =+'2. (영문)신청서'!$K$28 -> 0 | G32: =+'2. (영문)신청서'!$K$29 -> 0 | H32: =+'2. (영문)신청서'!$K$30 -> 0 | I32: =+'2. (영문)신청서'!$K$31 -> 0 | J32: =+'2. (영문)신청서'!$AD$27 -> 0 | K32: =+'2. (영문)신청서'!$AD$28 -> 0 | L32: =+'2. (영문)신청서'!$AD$29 -> 0 | M32: =+'2. (영문)신청서'!$AD$30 -> 0 | N32: =+'2. (영문)신청서'!$AD$31 -> 0 | O32: =+'2. (영문)신청서'!$I$45 -> 0 | P32: =+'2. (영문)신청서'!$O$45 -> 0 | Q32: =+'2. (영문)신청서'!$I$47 -> 0 | R32: =+'2. (영문)신청서'!$O$47 -> 0 | S32: =+'2. (영문)신청서'!$G$77 -> Others | T32: =+'2. (영문)신청서'!$C$76 -> 0 | U32: =+'2. (영문)신청서'!$M$76 -> 0 | V32: =+'2. (영문)신청서'!$Q$76 -> 0 | W32: =+'2. (영문)신청서'!$AJ$76 -> 0
B33: 4 | C33: =+'2. (영문)신청서'!$N$12 -> 0 | D33: =+'2. (영문)신청서'!$N$13 -> 0 | E33: =+'2. (영문)신청서'!$K$27 -> 0 | F33: =+'2. (영문)신청서'!$K$28 -> 0 | G33: =+'2. (영문)신청서'!$K$29 -> 0 | H33: =+'2. (영문)신청서'!$K$30 -> 0 | I33: =+'2. (영문)신청서'!$K$31 -> 0 | J33: =+'2. (영문)신청서'!$AD$27 -> 0 | K33: =+'2. (영문)신청서'!$AD$28 -> 0 | L33: =+'2. (영문)신청서'!$AD$29 -> 0 | M33: =+'2. (영문)신청서'!$AD$30 -> 0 | N33: =+'2. (영문)신청서'!$AD$31 -> 0 | O33: =+'2. (영문)신청서'!$I$45 -> 0 | P33: =+'2. (영문)신청서'!$O$45 -> 0 | Q33: =+'2. (영문)신청서'!$I$47 -> 0 | R33: =+'2. (영문)신청서'!$O$47 -> 0 | S33: =+'2. (영문)신청서'!$G$77 -> Others | T33: =+'2. (영문)신청서'!$C$76 -> 0 | U33: =+'2. (영문)신청서'!$M$76 -> 0 | V33: =+'2. (영문)신청서'!$Q$76 -> 0 | W33: =+'2. (영문)신청서'!$AJ$76 -> 0
B34: 5 | C34: =+'2. (영문)신청서'!$N$12 -> 0 | D34: =+'2. (영문)신청서'!$N$13 -> 0 | E34: =+'2. (영문)신청서'!$K$27 -> 0 | F34: =+'2. (영문)신청서'!$K$28 -> 0 | G34: =+'2. (영문)신청서'!$K$29 -> 0 | H34: =+'2. (영문)신청서'!$K$30 -> 0 | I34: =+'2. (영문)신청서'!$K$31 -> 0 | J34: =+'2. (영문)신청서'!$AD$27 -> 0 | K34: =+'2. (영문)신청서'!$AD$28 -> 0 | L34: =+'2. (영문)신청서'!$AD$29 -> 0 | M34: =+'2. (영문)신청서'!$AD$30 -> 0 | N34: =+'2. (영문)신청서'!$AD$31 -> 0 | O34: =+'2. (영문)신청서'!$I$45 -> 0 | P34: =+'2. (영문)신청서'!$O$45 -> 0 | Q34: =+'2. (영문)신청서'!$I$47 -> 0 | R34: =+'2. (영문)신청서'!$O$47 -> 0 | S34: =+'2. (영문)신청서'!$G$77 -> Others | T34: =+'2. (영문)신청서'!$C$76 -> 0 | U34: =+'2. (영문)신청서'!$M$88 -> 0 | V34: =+'2. (영문)신청서'!$Q$88 -> 0 | W34: =+'2. (영문)신청서'!$AJ$88 -> 0
B35: 6 | C35: =+'2. (영문)신청서'!$N$12 -> 0 | D35: =+'2. (영문)신청서'!$N$13 -> 0 | E35: =+'2. (영문)신청서'!$K$27 -> 0 | F35: =+'2. (영문)신청서'!$K$28 -> 0 | G35: =+'2. (영문)신청서'!$K$29 -> 0 | H35: =+'2. (영문)신청서'!$K$30 -> 0 | I35: =+'2. (영문)신청서'!$K$31 -> 0 | J35: =+'2. (영문)신청서'!$AD$27 -> 0 | K35: =+'2. (영문)신청서'!$AD$28 -> 0 | L35: =+'2. (영문)신청서'!$AD$29 -> 0 | M35: =+'2. (영문)신청서'!$AD$30 -> 0 | N35: =+'2. (영문)신청서'!$AD$31 -> 0 | O35: =+'2. (영문)신청서'!$I$45 -> 0 | P35: =+'2. (영문)신청서'!$O$45 -> 0 | Q35: =+'2. (영문)신청서'!$I$47 -> 0 | R35: =+'2. (영문)신청서'!$O$47 -> 0 | S35: =+'2. (영문)신청서'!$G$77 -> Others | T35: =+'2. (영문)신청서'!$C$76 -> 0 | U35: =+'2. (영문)신청서'!$M$88 -> 0 | V35: =+'2. (영문)신청서'!$Q$88 -> 0 | W35: =+'2. (영문)신청서'!$AJ$88 -> 0
B36: 7 | C36: =+'2. (영문)신청서'!$N$12 -> 0 | D36: =+'2. (영문)신청서'!$N$13 -> 0 | E36: =+'2. (영문)신청서'!$K$27 -> 0 | F36: =+'2. (영문)신청서'!$K$28 -> 0 | G36: =+'2. (영문)신청서'!$K$29 -> 0 | H36: =+'2. (영문)신청서'!$K$30 -> 0 | I36: =+'2. (영문)신청서'!$K$31 -> 0 | J36: =+'2. (영문)신청서'!$AD$27 -> 0 | K36: =+'2. (영문)신청서'!$AD$28 -> 0 | L36: =+'2. (영문)신청서'!$AD$29 -> 0 | M36: =+'2. (영문)신청서'!$AD$30 -> 0 | N36: =+'2. (영문)신청서'!$AD$31 -> 0 | O36: =+'2. (영문)신청서'!$I$45 -> 0 | P36: =+'2. (영문)신청서'!$O$45 -> 0 | Q36: =+'2. (영문)신청서'!$I$47 -> 0 | R36: =+'2. (영문)신청서'!$O$47 -> 0 | S36: =+'2. (영문)신청서'!$G$77 -> Others | T36: =+'2. (영문)신청서'!$C$76 -> 0 | U36: =+'2. (영문)신청서'!$M$88 -> 0 | V36: =+'2. (영문)신청서'!$Q$88 -> 0 | W36: =+'2. (영문)신청서'!$AJ$88 -> 0
B37: 8 | C37: =+'2. (영문)신청서'!$N$12 -> 0 | D37: =+'2. (영문)신청서'!$N$13 -> 0 | E37: =+'2. (영문)신청서'!$K$27 -> 0 | F37: =+'2. (영문)신청서'!$K$28 -> 0 | G37: =+'2. (영문)신청서'!$K$29 -> 0 | H37: =+'2. (영문)신청서'!$K$30 -> 0 | I37: =+'2. (영문)신청서'!$K$31 -> 0 | J37: =+'2. (영문)신청서'!$AD$27 -> 0 | K37: =+'2. (영문)신청서'!$AD$28 -> 0 | L37: =+'2. (영문)신청서'!$AD$29 -> 0 | M37: =+'2. (영문)신청서'!$AD$30 -> 0 | N37: =+'2. (영문)신청서'!$AD$31 -> 0 | O37: =+'2. (영문)신청서'!$I$45 -> 0 | P37: =+'2. (영문)신청서'!$O$45 -> 0 | Q37: =+'2. (영문)신청서'!$I$47 -> 0 | R37: =+'2. (영문)신청서'!$O$47 -> 0 | S37: =+'2. (영문)신청서'!$G$77 -> Others | T37: =+'2. (영문)신청서'!$C$76 -> 0 | U37: =+'2. (영문)신청서'!$M$88 -> 0 | V37: =+'2. (영문)신청서'!$Q$88 -> 0 | W37: =+'2. (영문)신청서'!$AJ$88 -> 0
B38: 9
B39: 10
B40: 11
B41: 12
B42: 13
B43: 14

Sheet 통합관리시트_관리용
A3: ▣ 기업 data 통합 관리 시트
B5: No. | C5: 국문 | X5: 영문
C6: 회사명 | D6: 사업자 등록번호 | E6: 연락 정보 | O6: 매출 성과(USD 백만) | S6: 사업분야 | X6: Company Name | Y6: Contact Points | AI6: Sales & Export Info(USD Mil) | AM6: Business info
E7: 담당자1 | J7: 담당자2 | O7: 연간 매출 | Q7: 연간수출 | S7: 대분류 | T7: 제품명 | U7: HS CODE | V7: 제품설명 | Y7: POC1 | AD7: POC2 | AI7: Annual Sales | AK7: Annual Export | AM7: Field | AN7: Item | AO7: HS CODE | AP7: Product info
E8: 이름 | F8: 직책 | G8: 연락처(사무실) | H8: 연락처(휴대전화) | I8: e-mail | J8: 이름 | K8: 직책 | L8: 연락처(사무실) | M8: 연락처(휴대전화) | N8: e-mail | O8: 2020 | P8: 2021 | Q8: 2020 | R8: 2021 | V8: 재원 | W8: 수출가능유형 | Y8: Name | Z8: Title | AA8: Phone | AB8: Mobile | AC8: e-mail | AD8: Name | AE8: Title | AF8: Phone | AG8: Mobile | AH8: e-mail | AI8: 2020 | AJ8: 2021 | AK8: 2020 | AL8: 2021 | AP8: Spec. | AQ8: Type of Export
B9: 1 | C9: =+'1. (국문)신청서'!$N$12:$N$12 -> 0 | D9: =+'1. (국문)신청서'!$N$13 -> 0 | E9: =+'1. (국문)신청서'!$K$27 -> 0 | F9: =+'1. (국문)신청서'!$K$28 -> 0 | G9: =+'1. (국문)신청서'!$K$29 -> 0 | H9: =+'1. (국문)신청서'!$K$30 -> 0 | I9: =+'1. (국문)신청서'!$K$31 -> 0 | J9: =+'1. (국문)신청서'!$AD$27 -> 0 | K9: =+'1. (국문)신청서'!$AD$28 -> 0 | L9: =+'1. (국문)신청서'!$AD$29 -> 0 | M9: =+'1. (국문)신청서'!$AD$30 -> 0 | N9: =+'1. (국문)신청서'!$AD$31 -> 0 | O9: =+'1. (국문)신청서'!$I$45 -> 0 | P9: =+'1. (국문)신청서'!$O$45 -> 0 | Q9: =+'1. (국문)신청서'!$I$47 -> 0 | R9: =+'1. (국문)신청서'!$O$47 -> 0 | S9: ='1. (국문)신청서'!$G$85 -> 0 | T9: =+'1. (국문)신청서'!$C$84 -> 0 | U9: =+'1. (국문)신청서'!$M$84 -> 0 | V9: =+'1. (국문)신청서'!$Q$84 -> 0 | W9: =+'1. (국문)신청서'!$AJ$84 -> 0 | X9: =+'2. (영문)신청서'!$N$12 -> 0 | Y9: =+'2. (영문)신청서'!$K$27 -> 0 | Z9: =+'2. (영문)신청서'!$K$28 -> 0 | AA9: =+'2. (영문)신청서'!$K$29 -> 0 | AB9: =+'2. (영문)신청서'!$K$30 -> 0 | AC9: =+'2. (영문)신청서'!$K$31 -> 0 | AD9: =+'2. (영문)신청서'!$AD$27 -> 0 | AE9: =+'2. (영문)신청서'!$AD$28 -> 0 | AF9: =+'2. (영문)신청서'!$AD$29 -> 0 | AG9: =+'2. (영문)신청서'!$AD$30 -> 0 | AH9: =+'2. (영문)신청서'!$AD$31 -> 0 | AI9: =+'2. (영문)신청서'!$I$45 -> 0 | AJ9: =+'2. (영문)신청서'!$O$45 -> 0 | AK9: =+'2. (영문)신청서'!$I$47 -> 0 | AL9: =+'2. (영문)신청서'!$O$47 -> 0 | AM9: =+'2. (영문)신청서'!$G$77 -> Others | AN9: =+'2. (영문)신청서'!$C$76 -> 0 | AO9: =+'2. (영문)신청서'!$M$76 -> 0 | AP9: =+'2. (영문)신청서'!$Q$76 -> 0 | AQ9: =+'2. (영문)신청서'!AJ76 -> 0
B10: 2 | C10: =+'1. (국문)신청서'!$N$12:$N$12 -> 0 | D10: =+'1. (국문)신청서'!$N$13 -> 0 | E10: =+'1. (국문)신청서'!$K$27 -> 0 | F10: =+'1. (국문)신청서'!$K$28 -> 0 | G10: =+'1. (국문)신청서'!$K$29 -> 0 | H10: =+'1. (국문)신청서'!$K$30 -> 0 | I10: =+'1. (국문)신청서'!$K$31 -> 0 | J10: =+'1. (국문)신청서'!$AD$27 -> 0 | K10: =+'1. (국문)신청서'!$AD$28 -> 0 | L10: =+'1. (국문)신청서'!$AD$29 -> 0 | M10: =+'1. (국문)신청서'!$AD$30 -> 0 | N10: =+'1. (국문)신청서'!$AD$31 -> 0 | O10: =+'1. (국문)신청서'!$I$45 -> 0 | P10: =+'1. (국문)신청서'!$O$45 -> 0 | Q10: =+'1. (국문)신청서'!$I$47 -> 0 | R10: =+'1. (국문)신청서'!$O$47 -> 0 | S10: ='1. (국문)신청서'!$G$85 -> 0 | T10: =+'1. (국문)신청서'!$C$84 -> 0 | U10: =+'1. (국문)신청서'!$M$84 -> 0 | V10: =+'1. (국문)신청서'!$Q$84 -> 0 | W10: =+'1. (국문)신청서'!$AJ$85 -> 0 | X10: =+'2. (영문)신청서'!$N$12 -> 0 | Y10: =+'2. (영문)신청서'!$K$27 -> 0 | Z10: =+'2. (영문)신청서'!$K$28 -> 0 | AA10: =+'2. (영문)신청서'!$K$29 -> 0 | AB10: =+'2. (영문)신청서'!$K$30 -> 0 | AC10: =+'2. (영문)신청서'!$K$31 -> 0 | AD10: =+'2. (영문)신청서'!$AD$27 -> 0 | AE10: =+'2. (영문)신청서'!$AD$28 -> 0 | AF10: =+'2. (영문)신청서'!$AD$29 -> 0 | AG10: =+'2. (영문)신청서'!$AD$30 -> 0 | AH10: =+'2. (영문)신청서'!$AD$31 -> 0 | AI10: =+'2. (영문)신청서'!$I$45 -> 0 | AJ10: =+'2. (영문)신청서'!$O$45 -> 0 | AK10: =+'2. (영문)신청서'!$I$47 -> 0 | AL10: =+'2. (영문)신청서'!$O$47 -> 0 | AM10: =+'2. (영문)신청서'!$G$77 -> Others | AN10: =+'2. (영문)신청서'!$C$76 -> 0 | AO10: =+'2. (영문)신청서'!$M$76 -> 0 | AP10: =+'2. (영문)신청서'!$Q$76 -> 0 | AQ10: =+'2. (영문)신청서'!AJ77 -> 0
B11: 3 | C11: =+'1. (국문)신청서'!$N$12:$N$12 -> 0 | D11: =+'1. (국문)신청서'!$N$13 -> 0 | E11: =+'1. (국문)신청서'!$K$27 -> 0 | F11: =+'1. (국문)신청서'!$K$28 -> 0 | G11: =+'1. (국문)신청서'!$K$29 -> 0 | H11: =+'1. (국문)신청서'!$K$30 -> 0 | I11: =+'1. (국문)신청서'!$K$31 -> 0 | J11: =+'1. (국문)신청서'!$AD$27 -> 0 | K11: =+'1. (국문)신청서'!$AD$28 -> 0 | L11: =+'1. (국문)신청서'!$AD$29 -> 0 | M11: =+'1. (국문)신청서'!$AD$30 -> 0 | N11: =+'1. (국문)신청서'!$AD$31 -> 0 | O11: =+'1. (국문)신청서'!$I$45 -> 0 | P11: =+'1. (국문)신청서'!$O$45 -> 0 | Q11: =+'1. (국문)신청서'!$I$47 -> 0 | R11: =+'1. (국문)신청서'!$O$47 -> 0 | S11: ='1. (국문)신청서'!$G$85 -> 0 | T11: =+'1. (국문)신청서'!$C$84 -> 0 | U11: =+'1. (국문)신청서'!$M$84 -> 0 | V11: =+'1. (국문)신청서'!$Q$84 -> 0 | W11: =+'1. (국문)신청서'!$AJ$86 -> 0 | X11: =+'2. (영문)신청서'!$N$12 -> 0 | Y11: =+'2. (영문)신청서'!$K$27 -> 0 | Z11: =+'2. (영문)신청서'!$K$28 -> 0 | AA11: =+'2. (영문)신청서'!$K$29 -> 0 | AB11: =+'2. (영문)신청서'!$K$30 -> 0 | AC11: =+'2. (영문)신청서'!$K$31 -> 0 | AD11: =+'2. (영문)신청서'!$AD$27 -> 0 | AE11: =+'2. (영문)신청서'!$AD$28 -> 0 | AF11: =+'2. (영문)신청서'!$AD$29 -> 0 | AG11: =+'2. (영문)신청서'!$AD$30 -> 0 | AH11: =+'2. (영문)신청서'!$AD$31 -> 0 | AI11: =+'2. (영문)신청서'!$I$45 -> 0 | AJ11: =+'2. (영문)신청서'!$O$45 -> 0 | AK11: =+'2. (영문)신청서'!$I$47 -> 0 | AL11: =+'2. (영문)신청서'!$O$47 -> 0 | AM11: =+'2. (영문)신청서'!$G$77 -> Others | AN11: =+'2. (영문)신청서'!$C$76 -> 0 | AO11: =+'2. (영문)신청서'!$M$76 -> 0 | AP11: =+'2. (영문)신청서'!$Q$76 -> 0 | AQ11: =+'2. (영문)신청서'!AJ78 -> 0
B12: 4 | C12: =+'1. (국문)신청서'!$N$12:$N$12 -> 0 | D12: =+'1. (국문)신청서'!$N$13 -> 0 | E12: =+'1. (국문)신청서'!$K$27 -> 0 | F12: =+'1. (국문)신청서'!$K$28 -> 0 | G12: =+'1. (국문)신청서'!$K$29 -> 0 | H12: =+'1. (국문)신청서'!$K$30 -> 0 | I12: =+'1. (국문)신청서'!$K$31 -> 0 | J12: =+'1. (국문)신청서'!$AD$27 -> 0 | K12: =+'1. (국문)신청서'!$AD$28 -> 0 | L12: =+'1. (국문)신청서'!$AD$29 -> 0 | M12: =+'1. (국문)신청서'!$AD$30 -> 0 | N12: =+'1. (국문)신청서'!$AD$31 -> 0 | O12: =+'1. (국문)신청서'!$I$45 -> 0 | P12: =+'1. (국문)신청서'!$O$45 -> 0 | Q12: =+'1. (국문)신청서'!$I$47 -> 0 | R12: =+'1. (국문)신청서'!$O$47 -> 0 | S12: ='1. (국문)신청서'!$G$85 -> 0 | T12: =+'1. (국문)신청서'!$C$84 -> 0 | U12: =+'1. (국문)신청서'!$M$84 -> 0 | V12: =+'1. (국문)신청서'!$Q$84 -> 0 | W12: =+'1. (국문)신청서'!$AJ$87 -> 0 | X12: =+'2. (영문)신청서'!$N$12 -> 0 | Y12: =+'2. (영문)신청서'!$K$27 -> 0 | Z12: =+'2. (영문)신청서'!$K$28 -> 0 | AA12: =+'2. (영문)신청서'!$K$29 -> 0 | AB12: =+'2. (영문)신청서'!$K$30 -> 0 | AC12: =+'2. (영문)신청서'!$K$31 -> 0 | AD12: =+'2. (영문)신청서'!$AD$27 -> 0 | AE12: =+'2. (영문)신청서'!$AD$28 -> 0 | AF12: =+'2. (영문)신청서'!$AD$29 -> 0 | AG12: =+'2. (영문)신청서'!$AD$30 -> 0 | AH12: =+'2. (영문)신청서'!$AD$31 -> 0 | AI12: =+'2. (영문)신청서'!$I$45 -> 0 | AJ12: =+'2. (영문)신청서'!$O$45 -> 0 | AK12: =+'2. (영문)신청서'!$I$47 -> 0 | AL12: =+'2. (영문)신청서'!$O$47 -> 0 | AM12: =+'2. (영문)신청서'!$G$77 -> Others | AN12: =+'2. (영문)신청서'!$C$76 -> 0 | AO12: =+'2. (영문)신청서'!$M$76 -> 0 | AP12: =+'2. (영문)신청서'!$Q$76 -> 0 | AQ12: =+'2. (영문)신청서'!AJ79 -> 0
B13: 5 | C13: =+'1. (국문)신청서'!$N$12:$N$12 -> 0 | D13: =+'1. (국문)신청서'!$N$13 -> 0 | E13: =+'1. (국문)신청서'!$K$27 -> 0 | F13: =+'1. (국문)신청서'!$K$28 -> 0 | G13: =+'1. (국문)신청서'!$K$29 -> 0 | H13: =+'1. (국문)신청서'!$K$30 -> 0 | I13: =+'1. (국문)신청서'!$K$31 -> 0 | J13: =+'1. (국문)신청서'!$AD$27 -> 0 | K13: =+'1. (국문)신청서'!$AD$28 -> 0 | L13: =+'1. (국문)신청서'!$AD$29 -> 0 | M13: =+'1. (국문)신청서'!$AD$30 -> 0 | N13: =+'1. (국문)신청서'!$AD$31 -> 0 | O13: =+'1. (국문)신청서'!$I$45 -> 0 | P13: =+'1. (국문)신청서'!$O$45 -> 0 | Q13: =+'1. (국문)신청서'!$I$47 -> 0 | R13: =+'1. (국문)신청서'!$O$47 -> 0 | S13: ='1. (국문)신청서'!$G$85 -> 0 | T13: =+'1. (국문)신청서'!$C$84 -> 0 | U13: =+'1. (국문)신청서'!$M$84 -> 0 | V13: =+'1. (국문)신청서'!$Q$84 -> 0 | W13: =+'1. (국문)신청서'!$AJ$88 -> 0 | X13: =+'2. (영문)신청서'!$N$12 -> 0 | Y13: =+'2. (영문)신청서'!$K$27 -> 0 | Z13: =+'2. (영문)신청서'!$K$28 -> 0 | AA13: =+'2. (영문)신청서'!$K$29 -> 0 | AB13: =+'2. (영문)신청서'!$K$30 -> 0 | AC13: =+'2. (영문)신청서'!$K$31 -> 0 | AD13: =+'2. (영문)신청서'!$AD$27 -> 0 | AE13: =+'2. (영문)신청서'!$AD$28 -> 0 | AF13: =+'2. (영문)신청서'!$AD$29 -> 0 | AG13: =+'2. (영문)신청서'!$AD$30 -> 0 | AH13: =+'2. (영문)신청서'!$AD$31 -> 0 | AI13: =+'2. (영문)신청서'!$I$45 -> 0 | AJ13: =+'2. (영문)신청서'!$O$45 -> 0 | AK13: =+'2. (영문)신청서'!$I$47 -> 0 | AL13: =+'2. (영문)신청서'!$O$47 -> 0 | AM13: =+'2. (영문)신청서'!$G$77 -> Others | AN13: =+'2. (영문)신청서'!$C$76 -> 0 | AO13: =+'2. (영문)신청서'!$M$88 -> 0 | AP13: =+'2. (영문)신청서'!$Q$88 -> 0 | AQ13: =+'2. (영문)신청서'!$AJ$88 -> 0
B14: 6 | C14: =+'1. (국문)신청서'!$N$12:$N$12 -> 0 | D14: =+'1. (국문)신청서'!$N$13 -> 0 | E14: =+'1. (국문)신청서'!$K$27 -> 0 | F14: =+'1. (국문)신청서'!$K$28 -> 0 | G14: =+'1. (국문)신청서'!$K$29 -> 0 | H14: =+'1. (국문)신청서'!$K$30 -> 0 | I14: =+'1. (국문)신청서'!$K$31 -> 0 | J14: =+'1. (국문)신청서'!$AD$27 -> 0 | K14: =+'1. (국문)신청서'!$AD$28 -> 0 | L14: =+'1. (국문)신청서'!$AD$29 -> 0 | M14: =+'1. (국문)신청서'!$AD$30 -> 0 | N14: =+'1. (국문)신청서'!$AD$31 -> 0 | O14: =+'1. (국문)신청서'!$I$45 -> 0 | P14: =+'1. (국문)신청서'!$O$45 -> 0 | Q14: =+'1. (국문)신청서'!$I$47 -> 0 | R14: =+'1. (국문)신청서'!$O$47 -> 0 | S14: ='1. (국문)신청서'!$G$85 -> 0 | T14: =+'1. (국문)신청서'!$C$84 -> 0 | U14: =+'1. (국문)신청서'!$M$84 -> 0 | V14: =+'1. (국문)신청서'!$Q$84 -> 0 | W14: =+'1. (국문)신청서'!$AJ$89 -> 0 | X14: =+'2. (영문)신청서'!$N$12 -> 0 | Y14: =+'2. (영문)신청서'!$K$27 -> 0 | Z14: =+'2. (영문)신청서'!$K$28 -> 0 | AA14: =+'2. (영문)신청서'!$K$29 -> 0 | AB14: =+'2. (영문)신청서'!$K$30 -> 0 | AC14: =+'2. (영문)신청서'!$K$31 -> 0 | AD14: =+'2. (영문)신청서'!$AD$27 -> 0 | AE14: =+'2. (영문)신청서'!$AD$28 -> 0 | AF14: =+'2. (영문)신청서'!$AD$29 -> 0 | AG14: =+'2. (영문)신청서'!$AD$30 -> 0 | AH14: =+'2. (영문)신청서'!$AD$31 -> 0 | AI14: =+'2. (영문)신청서'!$I$45 -> 0 | AJ14: =+'2. (영문)신청서'!$O$45 -> 0 | AK14: =+'2. (영문)신청서'!$I$47 -> 0 | AL14: =+'2. (영문)신청서'!$O$47 -> 0 | AM14: =+'2. (영문)신청서'!$G$77 -> Others | AN14: =+'2. (영문)신청서'!$C$76 -> 0 | AO14: =+'2. (영문)신청서'!$M$88 -> 0 | AP14: =+'2. (영문)신청서'!$Q$88 -> 0 | AQ14: =+'2. (영문)신청서'!$AJ$88 -> 0
B15: 7 | C15: =+'1. (국문)신청서'!$N$12:$N$12 -> 0 | D15: =+'1. (국문)신청서'!$N$13 -> 0 | E15: =+'1. (국문)신청서'!$K$27 -> 0 | F15: =+'1. (국문)신청서'!$K$28 -> 0 | G15: =+'1. (국문)신청서'!$K$29 -> 0 | H15: =+'1. (국문)신청서'!$K$30 -> 0 | I15: =+'1. (국문)신청서'!$K$31 -> 0 | J15: =+'1. (국문)신청서'!$AD$27 -> 0 | K15: =+'1. (국문)신청서'!$AD$28 -> 0 | L15: =+'1. (국문)신청서'!$AD$29 -> 0 | M15: =+'1. (국문)신청서'!$AD$30 -> 0 | N15: =+'1. (국문)신청서'!$AD$31 -> 0 | O15: =+'1. (국문)신청서'!$I$45 -> 0 | P15: =+'1. (국문)신청서'!$O$45 -> 0 | Q15: =+'1. (국문)신청서'!$I$47 -> 0 | R15: =+'1. (국문)신청서'!$O$47 -> 0 | S15: ='1. (국문)신청서'!$G$85 -> 0 | T15: =+'1. (국문)신청서'!$C$84 -> 0 | U15: =+'1. (국문)신청서'!$M$84 -> 0 | V15: =+'1. (국문)신청서'!$Q$84 -> 0 | W15: =+'1. (국문)신청서'!$AJ$90 -> 0 | X15: =+'2. (영문)신청서'!$N$12 -> 0 | Y15: =+'2. (영문)신청서'!$K$27 -> 0 | Z15: =+'2. (영문)신청서'!$K$28 -> 0 | AA15: =+'2. (영문)신청서'!$K$29 -> 0 | AB15: =+'2. (영문)신청서'!$K$30 -> 0 | AC15: =+'2. (영문)신청서'!$K$31 -> 0 | AD15: =+'2. (영문)신청서'!$AD$27 -> 0 | AE15: =+'2. (영문)신청서'!$AD$28 -> 0 | AF15: =+'2. (영문)신청서'!$AD$29 -> 0 | AG15: =+'2. (영문)신청서'!$AD$30 -> 0 | AH15: =+'2. (영문)신청서'!$AD$31 -> 0 | AI15: =+'2. (영문)신청서'!$I$45 -> 0 | AJ15: =+'2. (영문)신청서'!$O$45 -> 0 | AK15: =+'2. (영문)신청서'!$I$47 -> 0 | AL15: =+'2. (영문)신청서'!$O$47 -> 0 | AM15: =+'2. (영문)신청서'!$G$77 -> Others | AN15: =+'2. (영문)신청서'!$C$76 -> 0 | AO15: =+'2. (영문)신청서'!$M$88 -> 0 | AP15: =+'2. (영문)신청서'!$Q$88 -> 0 | AQ15: =+'2. (영문)신청서'!$AJ$88 -> 0
B16: 8 | C16: =+'1. (국문)신청서'!$N$12:$N$12 -> 0 | D16: =+'1. (국문)신청서'!$N$13 -> 0 | E16: =+'1. (국문)신청서'!$K$27 -> 0 | F16: =+'1. (국문)신청서'!$K$28 -> 0 | G16: =+'1. (국문)신청서'!$K$29 -> 0 | H16: =+'1. (국문)신청서'!$K$30 -> 0 | I16: =+'1. (국문)신청서'!$K$31 -> 0 | J16: =+'1. (국문)신청서'!$AD$27 -> 0 | K16: =+'1. (국문)신청서'!$AD$28 -> 0 | L16: =+'1. (국문)신청서'!$AD$29 -> 0 | M16: =+'1. (국문)신청서'!$AD$30 -> 0 | N16: =+'1. (국문)신청서'!$AD$31 -> 0 | O16: =+'1. (국문)신청서'!$I$45 -> 0 | P16: =+'1. (국문)신청서'!$O$45 -> 0 | Q16: =+'1. (국문)신청서'!$I$47 -> 0 | R16: =+'1. (국문)신청서'!$O$47 -> 0 | S16: ='1. (국문)신청서'!$G$85 -> 0 | T16: =+'1. (국문)신청서'!$C$84 -> 0 | U16: =+'1. (국문)신청서'!$M$84 -> 0 | V16: =+'1. (국문)신청서'!$Q$84 -> 0 | W16: =+'1. (국문)신청서'!$AJ$91 -> 0 | X16: =+'2. (영문)신청서'!$N$12 -> 0 | Y16: =+'2. (영문)신청서'!$K$27 -> 0 | Z16: =+'2. (영문)신청서'!$K$28 -> 0 | AA16: =+'2. (영문)신청서'!$K$29 -> 0 | AB16: =+'2. (영문)신청서'!$K$30 -> 0 | AC16: =+'2. (영문)신청서'!$K$31 -> 0 | AD16: =+'2. (영문)신청서'!$AD$27 -> 0 | AE16: =+'2. (영문)신청서'!$AD$28 -> 0 | AF16: =+'2. (영문)신청서'!$AD$29 -> 0 | AG16: =+'2. (영문)신청서'!$AD$30 -> 0 | AH16: =+'2. (영문)신청서'!$AD$31 -> 0 | AI16: =+'2. (영문)신청서'!$I$45 -> 0 | AJ16: =+'2. (영문)신청서'!$O$45 -> 0 | AK16: =+'2. (영문)신청서'!$I$47 -> 0 | AL16: =+'2. (영문)신청서'!$O$47 -> 0 | AM16: =+'2. (영문)신청서'!$G$77 -> Others | AN16: =+'2. (영문)신청서'!$C$76 -> 0 | AO16: =+'2. (영문)신청서'!$M$88 -> 0 | AP16: =+'2. (영문)신청서'!$Q$88 -> 0 | AQ16: =+'2. (영문)신청서'!$AJ$88 -> 0
B17: 9

Sheet 국가명
B2: 국가명 | D2: 판매구분 | F2: 수출가능 유형
B3: Algeria | D3: 생산 | E3: Production | F3: 완제품 | G3: Complete goods
B4: Angola | D4: 개발 | E4: R&D | F4: OEM | G4: OEM
B5: Argentina | D5: 정비 | E5: MRO | F5: ODM | G5: ODM
B6: Australia | D6: 기타 | E6: ETC | F6: 라이센싱 | G6: licensing
B7: Austria | F7: 기술제휴 | G7: Technical Tie-up
B8: Azerbaijan | F8: 유사품목 정비/개조 | G8: Repaire/remodel
B9: Bahrain
B10: Belgium
B11: Brazil
B12: Canada
B13: Chile
B14: China
B15: Colombia | D15: 권역명
B16: Czech Republic | D16: 아시아 | E16: Asia
B17: Denmark | D17: 북아메리카 | E17: North America
B18: Egypt | D18: 중남미 | E18: Latin America
B19: Finland | D19: 유럽 | E19: Europe
B20: France | D20: 중동 | E20: Middle East
B21: Germany | D21: 아프리카 | E21: Africa
B22: Greece | D22: 오세아니아 | E22: Oceania
B23: Hungary
B24: India
B25: Indonesia
B26: Iraq
B27: Israel
B28: Italy
B29: Japan
B30: Kazakhstan
B31: Korea, South
B32: Kuwait
B33: Malaysia
B34: Mexico
... B61: Vietnam
