Workbook
Name 품목1_0: OFFSET('[1](참고)제품 분류'!$H$39,,,COUNTA('[1](참고)제품 분류'!$H$39:$H$4963))
Name 품목1_1: OFFSET('[1](참고)제품 분류'!$J$39,MATCH('[1]1. (국문)신청서'!$G$87,'[1](참고)제품 분류'!$J$39:$J$4963,0)-1,1,COUNTIF('[1](참고)제품 분류'!$J$39:$J$4963,'[1]1. (국문)신청서'!$G$87),1)
Name 품목2_0: OFFSET('[1](참고)제품 분류'!$H$39,,,COUNTA('[1](참고)제품 분류'!$H$39:$H$4963))
Name 품목2_1: OFFSET('[1](참고)제품 분류'!$J$39,MATCH('[1]1. (국문)신청서'!$G$100,'[1](참고)제품 분류'!$J$39:$J$4963,0)-1,1,COUNTIF('[1](참고)제품 분류'!$J$39:$J$4963,'[1]1. (국문)신청서'!$G$100),1)
Name 품목3_0: OFFSET('[1](참고)제품 분류'!$H$39,,,COUNTA('[1](참고)제품 분류'!$H$39:$H$4963))
Name 품목3_1: OFFSET('[1](참고)제품 분류'!$J$39,MATCH('[1]1. (국문)신청서'!$G$113,'[1](참고)제품 분류'!$J$39:$J$4963,0)-1,1,COUNTIF('[1](참고)제품 분류'!$J$39:$J$4963,'[1]1. (국문)신청서'!$G$113),1)
Name 품목4_0: OFFSET('[1](참고)제품 분류'!$H$39,,,COUNTA('[1](참고)제품 분류'!$H$39:$H$4963))
Name 품목4_1: OFFSET('[1](참고)제품 분류'!$J$39,MATCH('[1]1. (국문)신청서'!$G$127,'[1](참고)제품 분류'!$J$39:$J$4963,0)-1,1,COUNTIF('[1](참고)제품 분류'!$J$39:$J$4963,'[1]1. (국문)신청서'!$G$127),1)
Name 품목5_0: OFFSET('[1](참고)제품 분류'!$H$39,,,COUNTA('[1](참고)제품 분류'!$H$39:$H$4963))
Name 품목5_1: OFFSET('[1](참고)제품 분류'!$J$39,MATCH('[1]1. (국문)신청서'!$G$140,'[1](참고)제품 분류'!$J$39:$J$4963,0)-1,1,COUNTIF('[1](참고)제품 분류'!$J$39:$J$4963,'[1]1. (국문)신청서'!$G$140),1)

Sheet 1. (국문)신청서
K3: 방산물자교역지원센터 DB 등록 신청서
C7: 1 | E7: 회사 정보
C10: 회사 소개
C11: 회사명 | N11: ㈜고구려전차
C12: 사업자등록번호 | N12: 123457890 | Z12: 대표 | AG12: 고담덕
C13: 설립일 | N13: 32509 | Z13: 업력 | AG13: =DATEDIF(N13,TODAY(),"Y") -> 34
C14: 본사 주소 | N14: 고구려 국내성
C15: 홈페이지 | N15: www.goguryombt.com
C16: (회사전경/로고 등 이미지) | N16: (소개 내용)
C24: 연락 정보
C25: 담당자 1 | K25: 고거련 | V25: 담당자 2 | AE25: 고나운
C26: 직책 | K26: 이사 | V26: 직책 | AE26: CTO
C27: 연락처(사무실) | K27: +82-0000-0000 | V27: 연락처(사무실) | AE27: +82-0000-0000
C28: 연락처(휴대전화) | K28: +82-10-0000-0000 | V28: 연락처(휴대전화) | AE28: +82-10-0000-0000
C29: E-mail | K29: grg@goguryombt.com | V29: E-mail | AE29: gnw@goguryombt.com
C31: 인력 정보 | V31: 주요 취득 인증
C32: 구분 | K32: 인원(명) | V32: 인증명 | AE32: 기간
C33: 수출 | K33: 5 | V33: ISO 26262 | AE33: YYYY.MM.DD - YYYY.MM.DD
C34: 연구개발 | K34: 41 | V34: - | AE34: -
C35: 기타 사무직 | K35: 0 | V35: - | AE35: -
C36: 생산라인 | K36: 200 | V36: ISO 26262 | AE36: YYYY.MM.DD - YYYY.MM.DD
C37: 기타 | K37: 4 | V37: - | AE37: -
C38: 총 원 | K38: =+SUM(K33:T37) -> 250 | V38: - | AE38: -
C41: 국내 생산거점 | V41: 매출 성과(USD 백만)
C42: 도시명 | L42: 유형 | V42: 구분 | AD42: 2021 | AJ42: 2022
C43: 창원 | L43: 생산공장 | V43: 연간 매출 | AD43: 9789 | AJ43: 9987
C44: 여수 | L44: 플랜트 | V44: 연간 수출 | AD44: 1363 | AJ44: 3854
C45: 대전 | L45: 생산공장 | V45: 연간 총 성과 | AD45: =SUM(AD43:AI44) -> 11152 | AJ45: =SUM(AJ43:AO44) -> 13841
V46: 매출 비중 | AD46: =AD43/AD45 -> 0.87777977 | AJ46: =AJ43/AJ45 -> 0.72155191
V47: 수출 비중 | AD47: =AD44/AD45 -> 0.12222023 | AJ47: =AJ44/AJ45 -> 0.27844809
C49: 해외 네트워크 (법인, 지사 등) | V49: 주요 수출 지역
C50: 도시명 | L50: 유형 | V50: 국가 | AG50: 비중(%)
C51: Dallas | L51: 해외법인 | V51: United States of America | AG51: 0.67
C52: Tokyo | L52: 해외지사·연락사무소 | V52: Germany | AG52: 0.33
C57: 해외 생산거점 | V57: 향후 수출 희망 지역
C58: 도시명 | L58: 유형 | V58: 순위 | AG58: 국가
C59: LA | L59: 생산공장 | V59: 1 | AG59: 핀란드
C60: Dallas | L60: 생산공장 | V60: 2 | AG60: 오스트레일리아
C61: Tokyo | L61: 플랜트 | V61: 3
V62: 4
V63: 5
C65: 사업 분야 (복수 선택)
C66: 분야 | J66: 상세 구분
C67: 기동1 | J67: =IFERROR(+VLOOKUP(C67,'(참고)사업수행분야'!$C$5:$D$18,2,FALSE)," " ) -> 전차, 장갑차 (IFV, MRAP, 험비류 포함) 및 관련 부품 등
C68: 미사일 | J68: =IFERROR(+VLOOKUP(C68,'(참고)사업수행분야'!$C$5:$D$18,2,FALSE)," " ) -> 미사일, 어뢰 및 로켓 (로켓/화염/유탄발사기, 발사관 및 발사장치) 등
J69: =IFERROR(+VLOOKUP(C69,'(참고)사업수행분야'!$C$5:$D$18,2,FALSE)," " )
J70: =IFERROR(+VLOOKUP(C70,'(참고)사업수행분야'!$C$5:$D$18,2,FALSE)," " )
C72: 주요 사업 성과 (국내외 납품이력, 과제 수행이력 포함)
C73: 년도(최신순) | H73: 국가명 | N73: 납품처 | Z73: 납품품목 | AK73: 비고
C74: 2023 | H74: United States of America | N74: General Dynamics | Z74: 상부장갑판 | AK74: 완제품
C75: 2022 | H75: Germany | N75: R 社 | Z75: 120mm 주포 | AK75: OEM
C81: 2 | E81: 품목 정보
C84: ① | E84: 제품명 (영문) | M84: HS Code (6단위) | Q84: 제품 설명 | AK84: 파트너링 가능 유형
Q85: 재원(스팩) | AB85: 특장점
C86: 120mm Smoothbore gun | M86: 871000 | Q86: ㅇ ㅇ ㅇ ㅇ ㅇ | AB86: ㅇ ㅇ ㅇ ㅇ ㅇ | AK86: 완제품
C87: 사업분야 | G87: 기동1 | AK87: OEM
C88: 제품 이미지 | AK88: 라이센싱
AK89: 개조
C93: 적용가능 무기체계 분류 | I93: 적용가능 무기체계 | O93: 품목이 속하는 1차 세부 분류 | U93: 2차 세부 분류 | AB93: 부체계 / 하위체계 단위 분류 | AI93: 소재/부품 단위 분류
C94: Ground Vehicle | I94: Tank | O94: Vehicle Platform | U94: Primary Gun | AB94: Hydraulic Systems | AI94: Arming & Fuzing
C95: (수기 작성란) | I95: (수기 작성란) | O95: (수기 작성란) | U95: (수기 작성란) | AB95: (수기 작성란) | AI95: (수기 작성란)
C97: ② | E97: 제품명 (영문) | M97: HS Code (6단위) | Q97: 제품 설명 | AK97: 파트너링 가능 유형
Q98: 재원(스팩) | AB98: 특장점
Q99: ㅇ ㅇ ㅇ ㅇ ㅇ | AB99: ㅇ ㅇ ㅇ ㅇ ㅇ
C100: 사업분야
C101: 제품 이미지
C106: 적용가능 무기체계 분류 | I106: 적용가능 무기체계 | O106: 품목이 속하는 1차 세부 분류 | U106: 2차 세부 분류 | AB106: 부체계 / 하위체계 단위 분류 | AI106: 소재/부품 단위 분류
C108: (수기 작성란) | I108: (수기 작성란) | O108: (수기 작성란) | U108: (수기 작성란) | AB108: (수기 작성란) | AI108: (수기 작성란)
C110: ③ | E110: 제품명 (영문) | M110: HS Code (6단위) | Q110: 제품 설명 | AK110: 파트너링 가능 유형
Q111: 재원(스팩) | AB111: 특장점
Q112: ㅇ ㅇ ㅇ ㅇ ㅇ | AB112: ㅇ ㅇ ㅇ ㅇ ㅇ
C113: 사업분야
C114: 제품 이미지
C119: 적용가능 무기체계 분류 | I119: 적용가능 무기체계 | O119: 품목이 속하는 1차 세부 분류 | U119: 2차 세부 분류 | AB119: 부체계 / 하위체계 단위 분류 | AI119: 소재/부품 단위 분류
C121: (수기 작성란) | I121: (수기 작성란) | O121: (수기 작성란) | U121: (수기 작성란) | AB121: (수기 작성란) | AI121: (수기 작성란)
C124: ④ | E124: 제품명 (영문) | M124: HS Code (6단위) | Q124: 제품 설명 | AK124: 파트너링 가능 유형
Q125: 재원(스팩) | AB125: 특장점
Q126: ㅇ ㅇ ㅇ ㅇ ㅇ | AB126: ㅇ ㅇ ㅇ ㅇ ㅇ
C127: 사업분야
C128: 제품 이미지
C133: 적용가능 무기체계 분류 | I133: 적용가능 무기체계 | O133: 품목이 속하는 1차 세부 분류 | U133: 2차 세부 분류 | AB133: 부체계 / 하위체계 단위 분류 | AI133: 소재/부품 단위 분류
C135: (수기 작성란) | I135: (수기 작성란) | O135: (수기 작성란) | U135: (수기 작성란) | AB135: (수기 작성란) | AI135: (수기 작성란)
C137: ⑤ | E137: 제품명 (영문) | M137: HS Code (6단위) | Q137: 제품 설명 | AK137: 수출가능유형
Q138: 재원(스팩) | AB138: 특장점
Q139: ㅇ ㅇ ㅇ ㅇ ㅇ | AB139: ㅇ ㅇ ㅇ ㅇ ㅇ
C140: 사업분야
C141: 제품 이미지
C146: 적용가능 무기체계 분류 | I146: 적용가능 무기체계 | O146: 품목이 속하는 1차 세부 분류 | U146: 2차 세부 분류 | AB146: 부체계 / 하위체계 단위 분류 | AI146: 소재/부품 단위 분류
C148: (수기 작성란) | I148: (수기 작성란) | O148: (수기 작성란) | U148: (수기 작성란) | AB148: (수기 작성란) | AI148: (수기 작성란)

Sheet 2. (영문)신청서
K3: Registration Form - Korean Defense Company DB -
C7: 1 | E7: Company Info.
C10: Company Introduction
C11: Company Name
C12: Business Registraion No. | N12: ='1. (국문)신청서'!N12 -> 123457890 | Y12: CEO
C13: Date of Establishment | N13: ='1. (국문)신청서'!N13 -> 32509 | Y13: Business Period | AG13: ='1. (국문)신청서'!AG13 -> 34
C14: HQ Address
C15: Webpage | N15: ='1. (국문)신청서'!N15 -> www.goguryombt.com
C16: (회사전경/로고 등 이미지) | N16: (소개 내용)
C24: Contact Point
C25: POC1 | V25: POC1
C26: Title | V26: Title
C27: Phone | K27: ='1. (국문)신청서'!K27 -> +82-0000-0000 | V27: Phone | AE27: ='1. (국문)신청서'!AE27 -> +82-0000-0000
C28: Mobile | K28: ='1. (국문)신청서'!K28 -> +82-10-0000-0000 | V28: Mobile | AE28: ='1. (국문)신청서'!AE28 -> +82-10-0000-0000
C29: E-mail | K29: ='1. (국문)신청서'!K29 -> grg@goguryombt.com | V29: E-mail | AE29: ='1. (국문)신청서'!AE29 -> gnw@goguryombt.com
C31: Manpower | V31: Certicicate
C32: Type | K32: Headcount | V32: Name | AE32: Period
C33: Exprot | K33: ='1. (국문)신청서'!K33 -> 5 | V33: ='1. (국문)신청서'!V33 -> ISO 26262 | AE33: ='1. (국문)신청서'!AE33 -> YYYY.MM.DD - YYYY.MM.DD
C34: R&D | K34: ='1. (국문)신청서'!K34 -> 41 | V34: ='1. (국문)신청서'!V34 -> - | AE34: ='1. (국문)신청서'!AE34 -> -
C35: Rest Officers | K35: ='1. (국문)신청서'!K35 -> 0 | V35: ='1. (국문)신청서'!V35 -> - | AE35: ='1. (국문)신청서'!AE35 -> -
C36: Manufacture | K36: ='1. (국문)신청서'!K36 -> 200 | V36: ='1. (국문)신청서'!V36 -> ISO 26262 | AE36: ='1. (국문)신청서'!AE36 -> YYYY.MM.DD - YYYY.MM.DD
C37: Etc | K37: ='1. (국문)신청서'!K37 -> 4 | V37: ='1. (국문)신청서'!V37 -> - | AE37: ='1. (국문)신청서'!AE37 -> -
C38: Total | K38: ='1. (국문)신청서'!K38 -> 250 | V38: ='1. (국문)신청서'!V38 -> - | AE38: ='1. (국문)신청서'!AE38 -> -
C41: Domestic Sites | V41: Sales & Exprot Info(USD Mil)
C42: City Name | L42: Type | V42: Category | AD42: 2021 | AJ42: 2022
L43: =IFERROR(VLOOKUP('1. (국문)신청서'!L43,'(참고)기타'!$C$13:$D$14,2,FALSE),"") -> Factory | V43: Annual Sales | AD43: ='1. (국문)신청서'!AD43 -> 9789 | AJ43: ='1. (국문)신청서'!AJ43 -> 9987
L44: =IFERROR(VLOOKUP('1. (국문)신청서'!L44,'(참고)기타'!$C$13:$D$14,2,FALSE),"") -> Plant | V44: Annual Export | AD44: ='1. (국문)신청서'!AD44 -> 1363 | AJ44: ='1. (국문)신청서'!AJ44 -> 3854
L45: =IFERROR(VLOOKUP('1. (국문)신청서'!L45,'(참고)기타'!$C$13:$D$14,2,FALSE),"") -> Factory | V45: Total Turnover | AD45: ='1. (국문)신청서'!AD45 -> 11152 | AJ45: ='1. (국문)신청서'!AJ45 -> 13841
L46: =IFERROR(VLOOKUP('1. (국문)신청서'!L46,'(참고)기타'!$C$13:$D$14,2,FALSE),"") | V46: Rate of Sales | AD46: ='1. (국문)신청서'!AD46 -> 0.87777977 | AJ46: ='1. (국문)신청서'!AJ46 -> 0.72155191
L47: =IFERROR(VLOOKUP('1. (국문)신청서'!L47,'(참고)기타'!$C$13:$D$14,2,FALSE),"") | V47: Rate of Export | AD47: ='1. (국문)신청서'!AD47 -> 0.12222023 | AJ47: ='1. (국문)신청서'!AJ47 -> 0.27844809
C49: Overseas Offices | V49: Major Export Market
C50: City Name | L50: Type | V50: Country | AG50: Percentage(%)
L51: =IFERROR(VLOOKUP('1. (국문)신청서'!L51,'(참고)기타'!$C$17:$D$18,2,FALSE),"") -> Overseas Coroporation | V51: ='1. (국문)신청서'!V51 -> United States of America | AG51: ='1. (국문)신청서'!AG51 -> 0.67
L52: =IFERROR(VLOOKUP('1. (국문)신청서'!L52,'(참고)기타'!$C$17:$D$18,2,FALSE),"") -> Overseas Office | V52: ='1. (국문)신청서'!V52 -> Germany | AG52: ='1. (국문)신청서'!AG52 -> 0.33
L53: =IFERROR(VLOOKUP('1. (국문)신청서'!L53,'(참고)기타'!$C$17:$D$18,2,FALSE),"") | V53: ='1. (국문)신청서'!V53 -> 0 | AG53: ='1. (국문)신청서'!AG53 -> 0
L54: =IFERROR(VLOOKUP('1. (국문)신청서'!L54,'(참고)기타'!$C$17:$D$18,2,FALSE),"") | V54: ='1. (국문)신청서'!V54 -> 0 | AG54: ='1. (국문)신청서'!AG54 -> 0
L55: =IFERROR(VLOOKUP('1. (국문)신청서'!L55,'(참고)기타'!$C$17:$D$18,2,FALSE),"") | V55: ='1. (국문)신청서'!V55 -> 0 | AG55: ='1. (국문)신청서'!AG55 -> 0
C57: Overseas Sites | V57: Future Export Target Market
C58: City Name | L58: Type | V58: Rank | AG58: Country
L59: =IFERROR(VLOOKUP('1. (국문)신청서'!L59,'(참고)기타'!$C$13:$D$14,2,FALSE),"") -> Factory | V59: 1 | AG59: =IFERROR(VLOOKUP('1. (국문)신청서'!AG59:AO59,'(참고)기타'!$C$21:$D$237,2,FALSE),"") -> Finland
L60: =IFERROR(VLOOKUP('1. (국문)신청서'!L60,'(참고)기타'!$C$13:$D$14,2,FALSE),"") -> Factory | V60: 2 | AG60: =IFERROR(VLOOKUP('1. (국문)신청서'!AG60:AO60,'(참고)기타'!$C$21:$D$237,2,FALSE),"") -> Australia
L61: =IFERROR(VLOOKUP('1. (국문)신청서'!L61,'(참고)기타'!$C$13:$D$14,2,FALSE),"") -> Plant | V61: 3 | AG61: =IFERROR(VLOOKUP('1. (국문)신청서'!AG61:AO61,'(참고)기타'!$C$21:$D$237,2,FALSE),"")
L62: =IFERROR(VLOOKUP('1. (국문)신청서'!L62,'(참고)기타'!$C$13:$D$14,2,FALSE),"") | V62: 4 | AG62: =IFERROR(VLOOKUP('1. (국문)신청서'!AG62:AO62,'(참고)기타'!$C$21:$D$237,2,FALSE),"")
L63: =IFERROR(VLOOKUP('1. (국문)신청서'!L63,'(참고)기타'!$C$13:$D$14,2,FALSE),"") | V63: 5 | AG63: =IFERROR(VLOOKUP('1. (국문)신청서'!AG63:AO63,'(참고)기타'!$C$21:$D$237,2,FALSE),"")
C65: Business Category
C66: Field | J66: Detaled explanation
C67: =IFERROR(VLOOKUP('1. (국문)신청서'!C67,'(참고)사업수행분야'!$C$5:$F$18,3,FALSE),"") -> Maneuver 1 | J67: =IFERROR(+VLOOKUP(C67,'(참고)사업수행분야'!$E$5:$F$18,2,FALSE)," " ) -> Tanks and other armoured fighting vehicles, motorised including parts
C68: =IFERROR(VLOOKUP('1. (국문)신청서'!C68,'(참고)사업수행분야'!$C$5:$F$18,3,FALSE),"") -> Missle | J68: =IFERROR(+VLOOKUP(C68,'(참고)사업수행분야'!$E$5:$F$18,2,FALSE)," " ) -> Missile, rocket / grenade launchers, torpedo and similar projectors
C69: =IFERROR(VLOOKUP('1. (국문)신청서'!C69,'(참고)사업수행분야'!$C$5:$F$18,3,FALSE),"") | J69: =IFERROR(+VLOOKUP(C69,'(참고)사업수행분야'!$E$5:$F$18,2,FALSE)," " )
C70: =IFERROR(VLOOKUP('1. (국문)신청서'!C70,'(참고)사업수행분야'!$C$5:$F$18,3,FALSE),"") | J70: =IFERROR(+VLOOKUP(C70,'(참고)사업수행분야'!$E$5:$F$18,2,FALSE)," " )
C72: Business Reference
C73: Year(recent) | H73: Country | N73: Vendor(Buyer) | Y73: Item | AK73: Note
C74: ='1. (국문)신청서'!C74 -> 2023 | H74: ='1. (국문)신청서'!H74 -> United States of America | AK74: =IFERROR(VLOOKUP('1. (국문)신청서'!AK74,'(참고)기타'!$C$4:$D$10,2,FALSE),"") -> Complete goods
C75: ='1. (국문)신청서'!C75 -> 2022 | H75: ='1. (국문)신청서'!H75 -> Germany | AK75: =IFERROR(VLOOKUP('1. (국문)신청서'!AK75,'(참고)기타'!$C$4:$D$10,2,FALSE),"") -> OEM
C76: ='1. (국문)신청서'!C76 -> 0 | H76: ='1. (국문)신청서'!H76 -> 0 | AK76: =IFERROR(VLOOKUP('1. (국문)신청서'!AK76,'(참고)기타'!$C$4:$D$10,2,FALSE),"")
C77: ='1. (국문)신청서'!C77 -> 0 | H77: ='1. (국문)신청서'!H77 -> 0 | AK77: =IFERROR(VLOOKUP('1. (국문)신청서'!AK77,'(참고)기타'!$C$4:$D$10,2,FALSE),"")
C78: ='1. (국문)신청서'!C78 -> 0 | H78: ='1. (국문)신청서'!H78 -> 0 | AK78: =IFERROR(VLOOKUP('1. (국문)신청서'!AK78,'(참고)기타'!$C$4:$D$10,2,FALSE),"")
C81: 2 | E81: Item Info
C84: ① | E84: Product Name | M84: HS Code (6단위) | Q84: Explanation | AK84: Partnership Type
Q85: Specification | AB85: Descriptive Features
C86: ='1. (국문)신청서'!C86 -> 120mm Smoothbore gun | M86: ='1. (국문)신청서'!M86 -> 871000 | Q86: ㅇ ㅇ ㅇ ㅇ ㅇ | AB86: ㅇ ㅇ ㅇ ㅇ ㅇ | AK86: =IFERROR(VLOOKUP('1. (국문)신청서'!AK86,'(참고)기타'!$C$4:$D$10,2,FALSE),"") -> Complete goods
C87: Field | G87: =IFERROR(VLOOKUP('1. (국문)신청서'!G87,'(참고)사업수행분야'!$C$5:$F$18,3,FALSE),"") -> Maneuver 1 | AK87: =IFERROR(VLOOKUP('1. (국문)신청서'!AK87,'(참고)기타'!$C$4:$D$10,2,FALSE),"") -> OEM
C88: 제품 이미지 | AK88: =IFERROR(VLOOKUP('1. (국문)신청서'!AK88,'(참고)기타'!$C$4:$D$10,2,FALSE),"") -> licensing
AK89: =IFERROR(VLOOKUP('1. (국문)신청서'!AK89,'(참고)기타'!$C$4:$D$10,2,FALSE),"") -> Remodeling
AK90: =IFERROR(VLOOKUP('1. (국문)신청서'!AK90,'(참고)기타'!$C$4:$D$10,2,FALSE),"")
AK91: =IFERROR(VLOOKUP('1. (국문)신청서'!AK91,'(참고)기타'!$C$4:$D$10,2,FALSE),"")
AK92: =IFERROR(VLOOKUP('1. (국문)신청서'!AK92,'(참고)기타'!$C$4:$D$10,2,FALSE),"")
C93: Platform Type | I93: Primary Platforms | O93: Primary Systems | U93: Complementary Systems | AB93: Subsystems | AI93: Smaller Components
C94: ='1. (국문)신청서'!C94 -> Ground Vehicle | I94: ='1. (국문)신청서'!I94 -> Tank | O94: ='1. (국문)신청서'!O94 -> Vehicle Platform | U94: ='1. (국문)신청서'!U94 -> Primary Gun | AB94: ='1. (국문)신청서'!AB94 -> Hydraulic Systems | AI94: ='1. (국문)신청서'!AI94 -> Arming & Fuzing
C95: (수기 작성란) | I95: (수기 작성란) | O95: (수기 작성란) | U95: (수기 작성란) | AB95: (수기 작성란) | AI95: (수기 작성란)
C97: ② | E97: Product Name | M97: HS Code (6단위) | Q97: Explanation | AK97: Partnership Type
Q98: Specification | AB98: Descriptive Features
C99: ='1. (국문)신청서'!C99 -> 0 | M99: ='1. (국문)신청서'!M99 -> 0 | Q99: ㅇ ㅇ ㅇ ㅇ ㅇ | AB99: ㅇ ㅇ ㅇ ㅇ ㅇ | AK99: =IFERROR(VLOOKUP('1. (국문)신청서'!AK99,'(참고)기타'!$C$4:$D$10,2,FALSE),"")
C100: Field | G100: =IFERROR(VLOOKUP('1. (국문)신청서'!G100,'(참고)사업수행분야'!$C$5:$F$18,3,FALSE),"") | AK100: =IFERROR(VLOOKUP('1. (국문)신청서'!AK100,'(참고)기타'!$C$4:$D$10,2,FALSE),"")
C101: 제품 이미지 | AK101: =IFERROR(VLOOKUP('1. (국문)신청서'!AK101,'(참고)기타'!$C$4:$D$10,2,FALSE),"")
AK102: =IFERROR(VLOOKUP('1. (국문)신청서'!AK102,'(참고)기타'!$C$4:$D$10,2,FALSE),"")
AK103: =IFERROR(VLOOKUP('1. (국문)신청서'!AK103,'(참고)기타'!$C$4:$D$10,2,FALSE),"")
AK104: =IFERROR(VLOOKUP('1. (국문)신청서'!AK104,'(참고)기타'!$C$4:$D$10,2,FALSE),"")
AK105: =IFERROR(VLOOKUP('1. (국문)신청서'!AK105,'(참고)기타'!$C$4:$D$10,2,FALSE),"")
C106: Platform Type | I106: Primary Platforms | O106: Primary Systems | U106: Complementary Systems | AB106: Subsystems | AI106: Smaller Components
C107: ='1. (국문)신청서'!C107 -> 0 | I107: ='1. (국문)신청서'!I107 -> 0 | O107: ='1. (국문)신청서'!O107 -> 0 | U107: ='1. (국문)신청서'!U107 -> 0 | AB107: ='1. (국문)신청서'!AB107 -> 0 | AI107: ='1. (국문)신청서'!AI107 -> 0
C108: (수기 작성란) | I108: (수기 작성란) | O108: (수기 작성란) | U108: (수기 작성란) | AB108: (수기 작성란) | AI108: (수기 작성란)
C110: ③ | E110: Product Name | M110: HS Code (6단위) | Q110: Explanation | AK110: Partnership Type
Q111: Specification | AB111: Descriptive Features
C112: ='1. (국문)신청서'!C112 -> 0 | M112: ='1. (국문)신청서'!M112 -> 0 | Q112: ㅇ ㅇ ㅇ ㅇ ㅇ | AB112: ㅇ ㅇ ㅇ ㅇ ㅇ | AK112: =IFERROR(VLOOKUP('1. (국문)신청서'!AK112,'(참고)기타'!$C$4:$D$10,2,FALSE),"")
C113: Field | G113: =IFERROR(VLOOKUP('1. (국문)신청서'!G113,'(참고)사업수행분야'!$C$5:$F$18,3,FALSE),"") | AK113: =IFERROR(VLOOKUP('1. (국문)신청서'!AK113,'(참고)기타'!$C$4:$D$10,2,FALSE),"")
C114: 제품 이미지 | AK114: =IFERROR(VLOOKUP('1. (국문)신청서'!AK114,'(참고)기타'!$C$4:$D$10,2,FALSE),"")
AK115: =IFERROR(VLOOKUP('1. (국문)신청서'!AK115,'(참고)기타'!$C$4:$D$10,2,FALSE),"")
AK116: =IFERROR(VLOOKUP('1. (국문)신청서'!AK116,'(참고)기타'!$C$4:$D$10,2,FALSE),"")
AK117: =IFERROR(VLOOKUP('1. (국문)신청서'!AK117,'(참고)기타'!$C$4:$D$10,2,FALSE),"")
AK118: =IFERROR(VLOOKUP('1. (국문)신청서'!AK118,'(참고)기타'!$C$4:$D$10,2,FALSE),"")
C119: Platform Type | I119: Primary Platforms | O119: Primary Systems | U119: Complementary Systems | AB119: Subsystems | AI119: Smaller Components
C120: ='1. (국문)신청서'!C120 -> 0 | I120: ='1. (국문)신청서'!I120 -> 0 | O120: ='1. (국문)신청서'!O120 -> 0 | U120: ='1. (국문)신청서'!U120 -> 0 | AB120: ='1. (국문)신청서'!AB120 -> 0 | AI120: ='1. (국문)신청서'!AI120 -> 0
C121: (수기 작성란) | I121: (수기 작성란) | O121: (수기 작성란) | U121: (수기 작성란) | AB121: (수기 작성란) | AI121: (수기 작성란)
C124: ④ | E124: Product Name | M124: HS Code (6단위) | Q124: Explanation | AK124: Partnership Type
Q125: Specification | AB125: Descriptive Features
C126: ='1. (국문)신청서'!C126 -> 0 | M126: ='1. (국문)신청서'!M126 -> 0 | Q126: ㅇ ㅇ ㅇ ㅇ ㅇ | AB126: ㅇ ㅇ ㅇ ㅇ ㅇ | AK126: =IFERROR(VLOOKUP('1. (국문)신청서'!AK126,'(참고)기타'!$C$4:$D$10,2,FALSE),"")
C127: Field | G127: =IFERROR(VLOOKUP('1. (국문)신청서'!G127,'(참고)사업수행분야'!$C$5:$F$18,3,FALSE),"") | AK127: =IFERROR(VLOOKUP('1. (국문)신청서'!AK127,'(참고)기타'!$C$4:$D$10,2,FALSE),"")
C128: 제품 이미지 | AK128: =IFERROR(VLOOKUP('1. (국문)신청서'!AK128,'(참고)기타'!$C$4:$D$10,2,FALSE),"")
AK129: =IFERROR(VLOOKUP('1. (국문)신청서'!AK129,'(참고)기타'!$C$4:$D$10,2,FALSE),"")
...

Sheet (참고)사업수행분야
C3: 사업 분야
C4: 사업분야 | D4: 상세 구분 | E4: Field | F4: Details
C5: 기동1 | D5: 전차, 장갑차 (IFV, MRAP, 험비류 포함) 및 관련 부품 등 | E5: Maneuver 1 | F5: Tanks and other armoured fighting vehicles, motorised including parts
C6: 기동2 | D6: 군용트럭, 급수차 및 관련 부품 등 | E6: Maneuver 2 | F6: Military truck, supply truck etc including parts
C7: 미사일 | D7: 미사일, 어뢰 및 로켓 (로켓/화염/유탄발사기, 발사관 및 발사장치) 등 | E7: Missle | F7: Missile, rocket / grenade launchers, torpedo and similar projectors
C8: 보안 | D8: 포렌식 장비, 군용 보안 품목 등 | E8: Security | F8: Forensics, military grade security items
C9: 위생/화생방 | D9: 제독차량, 군용 엠뷸런스, 기타 화생방 품목 등 | E9: CBRN | F9: Ambulance, special equiped vehicle and others
C10: 정찰/드론 | D10: 군용 드론 (ISR 목적 포함), 정찰/감시 시스템 등 | E10: Reconnaissance | F10: ISR Drone, ISR system
C11: 치안/비살상 | D11: 제압장비, 테이저건, 비살상 무기체계 등 | E11: Non-lethal | F11: Non-lethal weapon system
C12: 통신/전자 | D12: 군용 통신장비 (케이블 포함), 지휘 및 네트워크 시스템 등 | E12: Communication | F12: Communication, network system etc
C13: 피복 | D13: 군용 피복 | E13: Clothing | F13: Military clothing
C14: 함정 | D14: 군함, 및 관련 부품 (엔진, 잠망경) 등 | E14: Warship | F14: Warships of all kinds including parts
C15: 항공1 | D15: 군용 비행기 (고정익) 및 관련 부품 (프로펠러, 엔진 포함) 등 | E15: Aircraft1 | F15: Aeroplanes and other powered aircraft including parts
... C18: 화력2 | D18: 대포, 총기 및 관련 부품 (피카트니 레일, 광학장비 포함) 등 | E18: Firepowers 2 | F18: Artillery weapons, rifles and parts

Sheet (참고)제품 분류
C3: Platform Type | D3: Primary Platforms | E3: Primary Systems | F3: Complementary Systems | G3: Subsystems | H3: Smaller Components
C4: 적용가능 무기체계 분류 | D4: 적용가능 무기체계 | E4: 품목이 속하는 1차 세부 분류 | F4: 2차 세부 분류 | G4: 부체계 / 하위체계 단위 분류 | H4: 소재/부품 단위 분류
C5: Artillery | D5: Air and Missile Defense Vehicle | E5: Airframe | F5: Air & Missile Defense C2 | G5: Air Data Systems | H5: Actuators
C6: Fixed-Wing | D6: Ambulance | E6: Avionics | F6: Air Search Radar | G6: Aircraft Weapon Launchers and Racks | H6: Amplifiers
C7: Grd/Transportable | D7: Amphibious ship | E7: C2 Systems | F7: Aircraft Data Acquisition | G7: Batteries | H7: Ancillaries
C8: Ground Vehicle | D8: Armored Personnel Carrier (APC) | E8: EO/IR Systems | F8: Aircraft Human Machine Interface | G8: Braking Systems | H8: Antenna
C9: Ground/Fixed | D9: Artillery | E9: HM&E | F9: Aircraft Management Systems | G9: Cockpit and Console Instruments | H9: Arming & Fuzing
C10: Helicopter | D10: Attack Helicopter | E10: MilComm | F10: Anti-Mine & Navigation Sonar | G10: Compressors | H10: Cabling and Connectors
C11: Ligh'r than-Air Craft | D11: Attack Sub | E11: Missiles | F11: Armor | G11: Data Monitoring & Recording Systems | H11: Caterpillar Track
C12: Manportable | D12: Ballistic Sub | E12: Precision Guided Weapons | F12: Avionics Utilities | G12: Electric Actuation Control | H12: Chaff, Flares, and Expendable Decoys
C13: Multiple | D13: C2ISR UAV | E13: Propulsion Systems | F13: Battle Management C2 | G13: Electrical/Power Management Systems | H13: Cooling Systems
C14: Ship | D14: C2ISR UGV | E14: Radar | F14: Coastal Surveillance Radar | G14: Engine Control Electronics | H14: Electronics Housing and Mounting
... C16: Submarine | D16: Carrier | E16: Vehicle Platform | F16: Counter-Battery Radar | G16: Fiber Optic Equipment | H16: Explosives
C17: Tilt-Rotor | D17: Coastal/Patrol | F17: Cyber Security Systems | G17: Flight Control Systems (Electronic) | H17: Fabricated Metals and Fabrication Equipment
D18: Combat Engineering Vehicle | F18: Datacenter Infrastructure | G18: Flight Management Systems | H18: Field Equipment
D19: Command Post Vehicle | F19: Datalinks | G19: Fuel Management & Gauging | H19: Fuel/Propellant Lines
D20: Corvette | F20: Early Warning Radar | G20: Fuel Systems | H20: Fuel/Propellant Pumps
D21: Destroyer | F21: Electric and Hybrid Engines | G21: Generators | H21: Fuel/Propellant Valves
D22: EW Helicopter | F22: ESM | G22: Graphics Processing | H22: Grenades
D23: Fixed Site | F23: Fire Control Systems | G23: Hydraulic Systems | H23: Handling Equipment
D24: Fixed-Wing EW Aircraft | F24: Flight Control System | G24: Information Security | H24: Helmet Mounted Displays
D25: Fixed-Wing Ground Support | F25: Gas/Diesel Engines | G25: IR Element | H25: Large Caliber Ammunition
D26: Fixed-Wing Multirole Combat | F26: Ground Surveillance Radar | G26: Laser Element | H26: Military Clothing
D27: Fixed-Wing Tanker | F27: Homeland Security C2 | G27: Missile Frame | H27: Munitions Components
D28: Fixed-Wing Trainer | F28: IFF Systems | G28: Mission Processor | H28: Operator Consoles & Displays
D29: Fixed-Wing Transport | F29: Integrated Avionics Systems | G29: Mission Software | H29: Personal Combat Protection
... D39: Logistics/Support | F39: Navigation Radar | G39: Propulsion Associated Displays | H39: Warhead
D40: MALE/HALE UAV | F40: Navigation Systems | G40: Propulsion Management Accessories
D41: Manportable | F41: Night Vision | G41: Receiver
D42: Mine Warfare Ship | F42: Nose Landing System | G42: Rockets and Small Air-Breathing Engines
D43: Mine Warfare UGV | F43: Other Sonar | G43: Simulation Hardware
D44: Mine Warfare USV | F44: Port Security Sonar | G44: Simulation Software
D45: Mine Warfare UUV | F45: Primary Gun | G45: Small Arms
D46: Mine Warfare Vehicle | F46: Propulsion Management Systems | G46: Sonar Array
D47: Multiple Aircraft | F47: Radar Altimeter | G47: Sonar Housing
D48: Multiple Non-Combat UGV | F48: SATCOM Payloads | G48: Stores Management Systems
D49: Multiple Platforms | F49: SATCOM Terminals | G49: T/R System
D50: Multiple Ships/Submarines | F50: Search/Track/Tgt EO/IR | G50: Transducer/hydrophone
D51: Multirole Combat UAV | F51: Secondary Gun | G51: Transmitter
... D54: Other USV | F54: Strategic C2 | G54: Warhead
D55: Other UUV | F55: Strategic Communications
D56: Recovery Vehicle | F56: Surface Search Radar
D57: Research & Tech | F57: Surv / Recon Sonar
D58: Salvage/Rescue | F58: Surveillance / Reconnaissance EO/IR
D59: Self-Propelled Artillery | F59: Tactical Networks
D60: Surveillance/Reconnaissance Vehicle | F60: Tactical/Attack Sonar
D61: Survey/Ocean | F61: Theater Operations C2
D62: Tank | F62: Training Simulators
D63: Target UAV | F63: Transmission
D64: Trainer Helicopter | F64: Turbofan and Turbojet Engines
D65: Training Ship | F65: Turboprop and Turboshaft Engines
D66: UGV | F66: Turret
... D68: Unspecified Artillery | F68: Warning Receiver
D69: Unspecified Attack Sub
D70: Unspecified Combat Gnd Vehicle
D71: Unspecified Corvette
D72: Unspecified Frigate
D73: Unspecified General Tech
D74: Unspecified Ground
D75: Unspecified Manportable
D76: Unspecified Maritime Helicopter
D77: Unspecified MissionElec Oth.
D78: Unspecified Mobility Aircraft
D79: Unspecified Multiple
D80: Unspecified NA
... D97: Utility Vehicle

Sheet 3. 개인정보 수집 이용동의서
C3: 개인정보 수집 이용 동의서
C6: ■ 개인정보 수집 및 이용에 대한 동의
C8: ㅇ 개인정보의 수집, 이용 목적 : 거래대금지급처리(금융실명거래 및 비밀보장에 관한 법률 제3조, 시행령 제3조), 세무신고 처리
C9: (소득세법 제 144조, 소득세법 제 145조, 시행규칙 제 100조, 부가가치세법 제32조, 시행령 제67조)
C11: ㅇ 수집하는 개인정보의 항목 :
C12: ▶ 필수 항목
C13: - 거래자정보 : 이용자의 식별을 위한 정보[성명, 주민등록번호(또는 외국인등록번호), 자택주소]
C14: - 계좌정보 : 계좌이체를 위한 정보[은행명, 예금주, 계좌번호]
C15: ▶선택 항목 없음
C17: ㅇ 개인정보의 보유 및 이용기간 : 최종거래 익익년도부터 10년이 되는 날까지
C18: 단, 법률이 정하는 바에 따라 해지후에도 일정기간 보유할 수 있습니다.
C20: ㅇ 개인정보 수집에 대해 동의하지 않으실 수 있습니다. 다만, 필수항목의 경우 거래대금지급, 세무신고처리 등을 위해
... C42: ㅇ 개인정보의 수집 당시 정보주체의 이용·제공 동의 범위를 초과하여 이용 제공하지 않습니다.
J47: 성 명 : (서명 또는 인)
J48: (자필성명기재)
J49: 생년월일 :

Sheet (참고)기타
C3: 파트너링 유형
C4: 완제품 | D4: Complete goods
C5: OEM | D5: OEM
C6: ODM | D6: ODM
C7: 라이센싱 | D7: licensing
C8: 기술제휴 | D8: Technical Tie-up
C9: 개조 | D9: Remodeling
C10: MRO | D10: MRO
C12: 생산거점
C13: 생산공장 | D13: Factory
C14: 플랜트 | D14: Plant
C16: 주요 해외네트워크
C17: 해외법인 | D17: Overseas Coroporation
C18: 해외지사·연락사무소 | D18: Overseas Office
C20: 국가명(국문) | D20: 국가명(영문)
C21: 가나 | D21: Ghana
C22: 가봉 | D22: Gabon
C23: 가이아나 | D23: Guyana
C24: 감비아 | D24: Gambia
C25: 과들루프 | D25: Guadeloupe
C26: 과테말라 | D26: Guatemala
C27: 괌 | D27: Guam
C28: 그레나다 | D28: Grenada
C29: 그리스 | D29: Greece
... C237: 홍콩 | D237: Hong Kong
