Workbook

Sheet 1. (국문)신청서
K3: 방산물자교역지원센터 기업 DB 등록 신청서
C8: 1 | E8: 회사 정보
C11: 회사 소개
C12: 회사명
C13: 사업자등록번호 | N13: 111-11-11111 | Y13: 대표 | AF13: (예)홍길동
C14: 설립일 | N14: YYYY-MM-NN | Y14: 업력 | AF14: (예)30년
C15: 주소
C16: 홈페이지
C17: 사진, 로고 등 삽입 | N17: (예)(상세 기재 요망) 국방벤처 회사로 소총 및 기관총용 조준경을 군용 및 법집행 기관에 마케팅하고 있습니다. 조준경은 전술제품으로 사용하도록 특별히 설계되고 제작된 제품으로 정확도의 저하 없이, 주변 상황을 이해하여 신속한 타깃 획득과 타깃 추적을 가능하게 합니다.
C26: 연락 정보
C27: 담당자 1 | V27: 담당자 2
C28: 직책 | V28: 직책
C29: 연락처(사무실) | K29: 11-111-1111 | V29: 연락처(사무실) | AD29: 11-111-1111
C30: 연락처(휴대전화) | K30: 111-1111-1111 | V30: 연락처(휴대전화) | AD30: 111-1111-1111
C31: E-mail | V31: E-mail
C33: 인력 정보 | V33: 주요 취득 인증
C34: 구분 | K34: 인원(명) | V34: 인증명 | AD34: 기간
C35: 수출 | K35: 4 | V35: ISO9001 | AD35: YYYY.MM.NN. ~ YYYY.MM.NN.
C36: 연구개발 | K36: 9 | V36: ISO14001 | AD36: YYYY.MM.NN. ~ YYYY.MM.NN.
C37: 기타 사무직 | K37: 15
C38: 생산라인 | K38: 60
C39: 기타 | K39: 2
C40: 총 원 | K40: =+SUM(K35:T39) -> 90
C43: 매출 성과(USD 백만) | V43: 주요 수출 지역
C44: 구분 | I44: 2021 | O44: 2022 | V44: 국가(영문) | AD44: 비중(%)
C45: 연간 매출 | I45: 14 | O45: 6 | V45: Peru | AD45: 0.65
V46: Turkey | AD46: 0.15
C47: 연간 수출 | I47: 3.7 | O47: 1.3 | V47: Canada | AD47: 0.05
V48: India | AD48: 0.03
C49: 수출 비중 | I49: =+I47/I45 -> 0.26428571 | O49: =+O47/O45 -> 0.21666667 | V49: 향후 수출 희망 지역
V50: 순위 | Y50: 권역 | AD50: 국가(영문)
V51: 1 | Y51: 유럽 | AD51: Germany
V52: 2 | Y52: 유럽 | AD52: United Kingdom
V53: 3 | Y53: 유럽 | AD53: Italy
C55: 부품국산화, ICT, 국방벤처, 무기체계개조개발 등 사업참가이력
C56: 사업명 | M56: 참여 기간 | V56: 과제(협약) 명 | AL56: 결과
C57: 글로벌 방산강소기업육성 | M57: 2015 | O57: 8 | Q57: ~ | R57: 2018 | T57: 8 | V57: - | AL57: 성공
C58: 무기체계핵심부품국산화개발 | M58: 2015 | O58: 1 | Q58: ~ | R58: 2018 | T58: 12 | V58: - | AL58: 성공
C63: 사업 분야 (복수 선택)
C64: 분야 | J64: 상세 구분
C65: 화력2 | J65: 총기 및 관련 부품 (조준경, 피카틔 레일, 광학장비 포함) 등..
C66: 기타 소〮부〮장 | J66: 방산/보안 분야 적용 가능 소재 부품 장비 등
J68: =IFERROR(+VLOOKUP(C68,'(참고)사업수행분야'!$B$2:$C$17,2,FALSE)," " )
C70: 주요 사업 성과(국내외)
C71: 년도(최신순) | H71: 국가명(영문) | N71: 납품처 | Y71: 납품품목 | AJ71: 비고
C72: 2022 | H72: Turkey | N72: Turkey 국방부 | Y72: - | AJ72: 생산
C73: 2022 | H73: Turkey | N73: Turkey 국방부 | Y73: - | AJ73: 생산
C74: 2022 | H74: India | N74: INDIA 경찰 | Y74: - | AJ74: 생산
C75: 2022 | H75: India | N75: INDIA 군 | Y75: - | AJ75: 생산
C76: 2021 | H76: Turkey | N76: Turkey 국방부 | Y76: - | AJ76: 생산
C77: 2021 | H77: Canada | N77: Cananda 정보부 | Y77: - | AJ77: 생산
C78: 2021 | H78: Peru | N78: Peru 군 | Y78: - | AJ78: 생산
C81: 2 | E81: 품목 정보
C84: ① | E84: 제품명 | M84: HS Code (6단위) | Q84: 제품 설명 | AJ84: 수출가능유형
Q85: 재원(스팩) | AA85: 특장점
C86: 제품번호 | M86: 9013100000 | Q86: * 레이저거리측정기(LRF)를 통한 표적 거리정보 제공 * 고해상도 열영상 센서 (640 x 480) * 와이드 디스플레이 스크린 (100 x 56mm) * 탄도보정장치 내장 * 장착가능총기 HMG NATO 12.7mm (M2HB,K6) | AA86: * 주·야간 열영상 복합 기관총용 조준경 세계최초로 도트, 열영상과 레이저거리측정기를 한 제품으로 구성하여 다양한 환경에서 사용이 용이함. | AJ86: 완제품
C87: 사업분야 | G87: 화력2
C88: 제품 이미지
C93: Platform Type | I93: Primary Platforms | O93: Primary Systems | U93: Complementary Systems | AA93: Subsystems | AH93: Smaller Components
U94: Primary Gun | AA94: Optical Element | AH94: Small Arms Sights
C95: (수기 작성란) | I95: (수기 작성란) | O95: (수기 작성란) | U95: MACHINE GUN SIGHT | AA95: MACHINE GUN SIGHT | AH95: MACHINE GUN SIGHT
C97: ② | E97: 제품명 | M97: HS Code (6단위) | Q97: 제품 설명 | AJ97: 수출가능유형
Q98: 재원(스팩) | AA98: 특장점
C99: 제품번호 | M99: 9013809000 | Q99: * 120 x 70mm의 초대형 와이드 렌즈 사용(전세계특허 보유) * 양안 운용으로 신속한 조준 가능, * 고강도 항공등급 알루미늄으로 기계가공한 몸체를 사용하여 견고한 내구성으로 계속되는 사격에도 정확도를 유지, * 반동 완화장치가 내장되어 사격 시의 반동에도 시야확보 가능 * 탄도보정장치 내장 * 장착가능총기: HMG NATO 12.7mm (M2HB,K6) | AA99: 중기관총용 도트조준경 | AJ99: 완제품
C100: 사업분야 | G100: 화력2
C101: 제품 이미지
C106: Platform Type | I106: Primary Platforms | O106: Primary Systems | U106: Complementary Systems | AA106: Subsystems | AH106: Smaller Components
U107: Primary Gun | AA107: Optical Element | AH107: Small Arms Sights
C108: (수기 작성란) | I108: (수기 작성란) | O108: (수기 작성란) | U108: MACHINE GUN SIGHT | AA108: MACHINE GUN SIGHT | AH108: MACHINE GUN SIGHT

Sheet 1. (영문)신청서
K3: Registration Form - Korean Defense Company DB -
C8: 1 | E8: Company Info.
C11: Company Introduction
C12: Company Name
C13: Business Registration No. | N13: 111-11-11111 | Y13: CEO
C14: Date of Establishment | N14: YYYY-MM-NN | Y14: Business Period | AF14: (EX) 20 years
C15: Address
C16: Webpage
C17: Company Photo | N17: K COMPANY has evolved into a defense venture company, marketing proprietary rifle and machine gun optics to the military and law enforcement sectors. K COMPANY sights are specially designed and built for use in the tactical area. Allowing for situational awareness, rapid target acquisition and target transition, without any degradation of accuracy. K COMPANY’s machine gun optics features: Night Vision Device (NVD) compatible, wide field of view, ballistic compensation, unlimited eye relief with various levels of LED brightness control.
C26: Contact Point
C27: POC1 | V27: POC1
C28: Title | V28: Title
C29: Phone | K29: 11-111-1111 | V29: Phone | AD29: 11-111-1111
C30: Mobile | K30: 111-1111-1111 | V30: Mobile | AD30: 111-1111-1111
C31: E-mail | V31: E-mail
C33: Manpower | V33: Certificate
C34: Type | K34: Headcount(숫자만입력) | V34: Name | AD34: Period
C35: Export | K35: 4 | V35: ISO9001 | AD35: YYYY.MM.NN. ~ YYYY.MM.NN.
C36: R&D | K36: 9 | V36: ISO14001 | AD36: YYYY.MM.NN. ~ YYYY.MM.NN.
C37: Rest Officers | K37: 15
C38: Manufacture | K38: 60
C39: Etc | K39: 2
C40: Total | K40: =+SUM(K35:T39) -> 90
C43: Sales & Exprot Info(USD Mil) | V43: Major Export Market
C44: Category | I44: 2021 | O44: 2022 | V44: Country | AD44: Percentage(%)
C45: Annual Sales | I45: 20 | O45: 12 | V45: Peru | AD45: 0.65
V46: Turkey | AD46: 0.15
C47: Annual Export | I47: 10 | O47: 14 | V47: Canada | AD47: 0.05
V48: India | AD48: 0.03
C49: Rate of Export | I49: =+I47/I45 -> 0.5 | O49: =+O47/O45 -> 1.1666667 | V49: Future Export Target Market
V50: Rank | Y50: Region | AD50: Country
V51: 1 | Y51: Europe | AD51: Germany
V52: 2 | Y52: Europe | AD52: United Kingdom
V53: 3 | Y53: Europe | AD53: Italy
C55: Business Category
C56: Field | J56: Detaled explanation
C57: Firepowers2 | J57: Artillery weapons, rifles and parts (Weapon Sight, Picatinny Rail included)
C58: Others | J58: Other materials, parts, components, equipments
J59: =IFERROR(+VLOOKUP(C59,'(참고)사업수행분야'!D26:E40,2,FALSE)," " )
J60: =IFERROR(+VLOOKUP(C60,'(참고)사업수행분야'!D27:E41,2,FALSE)," " )
C62: Business Reference
C63: Year(recent) | H63: Country | N63: Vendor(Buyer) | Y63: Item | AJ63: Note
C64: 2022 | H64: Turkey | N64: Turkey GHQ | Y64: - | AJ64: Production
C65: 2022 | H65: Turkey | N65: Turkey GHQ | Y65: - | AJ65: Production
C66: 2022 | H66: India | N66: INDIA POLICE | Y66: - | AJ66: Production
C67: 2022 | H67: India | N67: INDIA Army | Y67: - | AJ67: Production
C68: 2021 | H68: Turkey | N68: Turkey GHQ | Y68: - | AJ68: Production
C69: 2021 | H69: Canada | N69: Canada BIN | Y69: - | AJ69: Production
C70: 2021 | H70: Peru | N70: Peru MOD | Y70: - | AJ70: Production
C73: 2 | E73: Item Info
C76: ① | E76: Product Name | M76: HS Code (6단위) | Q76: Explanation | AJ76: Type of Export
Q77: Specification | AA77: Descriptive Features
C78: Product Number | M78: 9013100000 | Q78: *Target distance information provided through Laser Range Finder(LRF), * High Resolution Thermal Image Sensor (640 x 480) * Wide Display Screen (100 x 56mm) * Integrated trajectory compensator system : * Designed Weapons : HMG NATO 12.7mm (M2HB,K6) | AA78: * Unique Features : Thermal, Red Dot Sight & LRF in One Body * The First System which combines a true day and night capability with a LRF(Laser Range Finder) to adjust the trajectory distance. | AJ78: Complete goods
C79: Field | G79: Firepowers2
C80: 제품 이미지
C85: Platform Type | I85: Primary Platforms | O85: Primary Systems | U85: Complementary Systems | AA85: Subsystems | AH85: Smaller Components
U86: Primary Gun
C88: ② | E88: Product Name | M88: HS Code (6단위) | Q88: Explanation | AJ88: Type of Export
Q89: Specification | AA89: Descriptive Features
C90: Product Number | M90: 9013809000 | Q90: * Extra Wide Lens (120 x 70mm) * Allows operators to track moving target with both eyes open, * Main Body is made with CNC machined from a solid block of 6061-T6 aircraft aluminum, * Integrated the recoil compensator retainer prevents loss of target on high recoil weapons. * Integrated trajectory compensator system * Designed Weapons : HMG NATO 12.7mm (M2HB,K6) | AA90: Red Dot Sight for Heavy Machine Gun | AJ90: Complete goods
C91: Field | G91: Firepowers2
C92: 제품 이미지
C97: Platform Type | I97: Primary Platforms | O97: Primary Systems | U97: Complementary Systems | AA97: Subsystems | AH97: Smaller Components
U98: Primary Gun

Sheet 2. 참가신청서 및 개인정보 수집 이용동의서
C3: 개인정보 수집 이용 동의서
C6: ■ 개인정보 수집 및 이용에 대한 동의
C8: ㅇ 개인정보의 수집, 이용 목적 : 거래대금지급처리(금융실명거래 및 비밀보장에 관한 법률 제3조, 시행령 제3조), 세무신고 처리
C9: (소득세법 제 144조, 소득세법 제 145조, 시행규칙 제 100조, 부가가치세법 제32조, 시행령 제67조)
C11: ㅇ 수집하는 개인정보의 항목 :
C12: ▶ 필수 항목
C13: - 거래자정보 : 이용자의 식별을 위한 정보[성명, 주민등록번호(또는 외국인등록번호), 자택주소]
C14: - 계좌정보 : 계좌이체를 위한 정보[은행명, 예금주, 계좌번호]
C15: ▶선택 항목 없음
C17: ㅇ 개인정보의 보유 및 이용기간 : 최종거래 익익년도부터 10년이 되는 날까지
C18: 단, 법률이 정하는 바에 따라 해지후에도 일정기간 보유할 수 있습니다.
C20: ㅇ 개인정보 수집에 대해 동의하지 않으실 수 있습니다. 다만, 필수항목의 경우 거래대금지급, 세무신고처리 등을 위해
... C42: ㅇ 개인정보의 수집 당시 정보주체의 이용·제공 동의 범위를 초과하여 이용 제공하지 않습니다.
J47: 성 명 : (서명 또는 인) | K47: 홍길동
J48: (자필성명 혹은 전자서명 붙임 요청)
J49: 생년월일 : | K49: 2000.01.01

Sheet (참고)사업수행분야
B1: 사업 분야 (복수선택)
B2: 사업분야 | C2: 상세 구분
B3: 기동1 | C3: 전차, 장갑차 (IFV, MRAP, 험비류 포함) 및 관련 부품 등
B4: 기동2 | C4: 군용트럭, 급수차 및 관련 부품 등
B5: 항공1 | C5: 군용 비행기 (고정익) 및 관련 부품 (프로펠러, 엔진 포함) 등
B6: 항공2 | C6: 군용헬기 및 관련 부품(프로펠러, 엔진 포함) 등
B7: 함정 | C7: 군함, 및 관련 부품 (엔진, 잠망경) 등
B8: 화력1 | C8: 화약, 폭약, 탄약 및 관련 부품 등
B9: 화력2 | C9: 대포, 총기 및 관련 부품 (피카트니 레일, 광학장비 포함) 등
B10: 미사일 | C10: 어뢰 및 로켓 (로켓/화염/유탄발사기, 발사관 및 발사장치) 등
B11: 위생/화생방 | C11: 제독차량, 군용 엠뷸런스, 기타 화생방 품목 등
B12: 통신/전자 | C12: 군용 통신장비 (케이블 포함), 지휘 및 네트워크 시스템 등
B13: 정찰/드론 | C13: 군용 드론 (ISR 목적 포함), 정찰/감시 시스템 등
... B34: Others | C34: Other materials, parts, components, equipments

Sheet (참고)제품 분류
A1: Platform Type | B1: Primary Platforms | C1: Primary Systems | D1: Complementary Systems | E1: Subsystems | F1: Smaller Components
A2: 적용가능 무기체계 분류 | B2: 적용가능 무기체계 | C2: 품목이 속하는 1차 세부 분류 | D2: 2차 세부 분류 | E2: 부체계 / 하위체계 단위 분류 | F2: 소재/부품 단위 분류
A3: Artillery | B3: Air and Missile Defense Vehicle | C3: Airframe | D3: Air & Missile Defense C2 | E3: Air Data Systems | F3: Actuators
A4: Fixed-Wing | B4: Ambulance | C4: Avionics | D4: Air Search Radar | E4: Aircraft Weapon Launchers and Racks | F4: Amplifiers
A5: Grd/Transportable | B5: Amphibious ship | C5: C2 Systems | D5: Aircraft Data Acquisition | E5: Batteries | F5: Ancillaries
A6: Ground Vehicle | B6: Armored Personnel Carrier (APC) | C6: EO/IR Systems | D6: Aircraft Human Machine Interface | E6: Braking Systems | F6: Antenna
A7: Ground/Fixed | B7: Artillery | C7: HM&E | D7: Aircraft Management Systems | E7: Cockpit and Console Instruments | F7: Arming & Fuzing
A8: Helicopter | B8: Attack Helicopter | C8: MilComm | D8: Anti-Mine & Navigation Sonar | E8: Compressors | F8: Cabling and Connectors
A9: Ligh'r than-Air Craft | B9: Attack Sub | C9: Missiles | D9: Armor | E9: Data Monitoring & Recording Systems | F9: Caterpillar Track
A10: Manportable | B10: Ballistic Sub | C10: Precision Guided Weapons | D10: Avionics Utilities | E10: Electric Actuation Control | F10: Chaff, Flares, and Expendable Decoys
A11: Multiple | B11: C2ISR UAV | C11: Propulsion Systems | D11: Battle Management C2 | E11: Electrical/Power Management Systems | F11: Cooling Systems
A12: Multiple | B12: C2ISR UGV | C12: Radar | D12: Coastal Surveillance Radar | E12: Engine Control Electronics | F12: Electronics Housing and Mounting
... A14: Space Systems | B14: Carrier | C14: Vehicle Platform | D14: Counter-Battery Radar | E14: Fiber Optic Equipment | F14: Explosives
A15: Submarine | B15: Coastal/Patrol | D15: Cyber Security Systems | E15: Flight Control Systems (Electronic) | F15: Fabricated Metals and Fabrication Equipment
A16: Tilt-Rotor | B16: Combat Engineering Vehicle | D16: Datacenter Infrastructure | E16: Flight Management Systems | F16: Field Equipment
B17: Command Post Vehicle | D17: Datalinks | E17: Fuel Management & Gauging | F17: Fuel/Propellant Lines
B18: Corvette | D18: Early Warning Radar | E18: Fuel Systems | F18: Fuel/Propellant Pumps
B19: Destroyer | D19: Electric and Hybrid Engines | E19: Generators | F19: Fuel/Propellant Valves
B20: EW Helicopter | D20: ESM | E20: Graphics Processing | F20: Grenades
B21: Fixed Site | D21: Fire Control Systems | E21: Hydraulic Systems | F21: Handling Equipment
B22: Fixed-Wing EW Aircraft | D22: Flight Control System | E22: Information Security | F22: Helmet Mounted Displays
B23: Fixed-Wing Ground Support | D23: Gas/Diesel Engines | E23: IR Element | F23: Large Caliber Ammunition
B24: Fixed-Wing Multirole Combat | D24: Ground Surveillance Radar | E24: Laser Element | F24: Military Clothing
B25: Fixed-Wing Tanker | D25: Homeland Security C2 | E25: Missile Frame | F25: Munitions Components
B26: Fixed-Wing Trainer | D26: IFF Systems | E26: Mission Processor | F26: Operator Consoles & Displays
B27: Fixed-Wing Transport | D27: Integrated Avionics Systems | E27: Mission Software | F27: Personal Combat Protection
B28: Frigate | D28: Intercoms | E28: Non-Mission Software | F28: Personal NBC Defense
... B37: Logistics/Support | D37: Navigation Radar | E37: Propulsion Associated Displays | F37: Warhead
B38: MALE/HALE UAV | D38: Navigation Systems | E38: Propulsion Management Accessories
B39: Manportable | D39: Night Vision | E39: Receiver
B40: Mine Warfare Ship | D40: Nose Landing System | E40: Rockets and Small Air-Breathing Engines
B41: Mine Warfare UGV | D41: Other Sonar | E41: Simulation Hardware
B42: Mine Warfare USV | D42: Port Security Sonar | E42: Simulation Software
B43: Mine Warfare UUV | D43: Primary Gun | E43: Small Arms
B44: Mine Warfare Vehicle | D44: Propulsion Management Systems | E44: Sonar Array
B45: Multiple Aircraft | D45: Radar Altimeter | E45: Sonar Housing
B46: Multiple Non-Combat UGV | D46: SATCOM Payloads | E46: Stores Management Systems
B47: Multiple Platforms | D47: SATCOM Terminals | E47: T/R System
B48: Multiple Ships/Submarines | D48: Search/Track/Tgt EO/IR | E48: Transducer/hydrophone
B49: Multirole Combat UAV | D49: Secondary Gun | E49: Transmitter
... B52: Other USV | D52: Strategic C2 | E52: Warhead
B53: Other UUV | D53: Strategic Communications
B54: Recovery Vehicle | D54: Surface Search Radar
B55: Research & Tech | D55: Surv / Recon Sonar
B56: Salvage/Rescue | D56: Surveillance / Reconnaissance EO/IR
B57: Self-Propelled Artillery | D57: Tactical Networks
B58: Surveillance/Reconnaissance Vehicle | D58: Tactical/Attack Sonar
B59: Survey/Ocean | D59: Theater Operations C2
B60: Tank | D60: Training Simulators
B61: Target UAV | D61: Transmission
B62: Trainer Helicopter | D62: Turbofan and Turbojet Engines
B63: Training Ship | D63: Turboprop and Turboshaft Engines
B64: UGV | D64: Turret
... B66: Unspecified Artillery | D66: Warning Receiver
B67: Unspecified Attack Sub
B68: Unspecified Combat Gnd Vehicle
B69: Unspecified Corvette
B70: Unspecified Frigate
B71: Unspecified General Tech
B72: Unspecified Ground
B73: Unspecified Manportable
B74: Unspecified Maritime Helicopter
B75: Unspecified MissionElec Oth.
B76: Unspecified Mobility Aircraft
B77: Unspecified Multiple
B78: Unspecified NA
... B95: Utility Vehicle

Sheet 통합관리시트_출력용
B3: ▣ 기업 data 통합 관리 시트
B5: No. | C5: 국문
C6: 회사명 | D6: 사업자 등록번호 | E6: 연락 정보 | O6: 매출 성과(USD 백만) | S6: 사업분야
E7: 담당자1 | J7: 담당자2 | O7: 연간 매출 | Q7: 연간수출 | S7: 대분류 | T7: 제품명 | U7: HS CODE | V7: 제품설명
E8: 이름 | F8: 직책 | G8: 연락처(사무실) | H8: 연락처(휴대전화) | I8: e-mail | J8: 이름 | K8: 직책 | L8: 연락처(사무실) | M8: 연락처(휴대전화) | N8: e-mail | O8: 2020 | P8: 2021 | Q8: 2020 | R8: 2021 | V8: 재원 | W8: 수출가능유형
B9: 1 | C9: =+'1. (국문)신청서'!$N$12:$N$12 -> 0 | D9: =+'1. (국문)신청서'!$N$13 -> 111-11-11111 | E9: =+'1. (국문)신청서'!$K$27 -> 0 | F9: =+'1. (국문)신청서'!$K$28 -> 0 | G9: =+'1. (국문)신청서'!$K$29 -> 11-111-1111 | H9: =+'1. (국문)신청서'!$K$30 -> 111-1111-1111 | I9: =+'1. (국문)신청서'!$K$31 -> 0 | J9: =+'1. (국문)신청서'!$AD$27 -> 0 | K9: =+'1. (국문)신청서'!$AD$28 -> 0 | L9: =+'1. (국문)신청서'!$AD$29 -> 11-111-1111 | M9: =+'1. (국문)신청서'!$AD$30 -> 111-1111-1111 | N9: =+'1. (국문)신청서'!$AD$31 -> 0 | O9: =+'1. (국문)신청서'!$I$45 -> 14 | P9: =+'1. (국문)신청서'!$O$45 -> 6 | Q9: =+'1. (국문)신청서'!$I$47 -> 3.7 | R9: =+'1. (국문)신청서'!$O$47 -> 1.3 | S9: ='1. (국문)신청서'!$G$87 -> 화력2 | T9: =+'1. (국문)신청서'!$C$86 -> 제품번호 | U9: =+'1. (국문)신청서'!$M$86 -> 9013100000 | V9: =+'1. (국문)신청서'!$Q$86 -> * 레이저거리측정기(LRF)를 통한 표적 거리정보 제공 * 고해상도 열영상 센서 (640 x 480) * 와이드 디스플레이 스크린 (100 x 56mm) * 탄도보정장치 내장 * 장착가능총기 HMG NATO 12.7mm (M2HB,K6) | W9: =+'1. (국문)신청서'!$AJ$86 -> 완제품
B10: 2 | C10: =+'1. (국문)신청서'!$N$12:$N$12 -> 0 | D10: =+'1. (국문)신청서'!$N$13 -> 111-11-11111 | E10: =+'1. (국문)신청서'!$K$27 -> 0 | F10: =+'1. (국문)신청서'!$K$28 -> 0 | G10: =+'1. (국문)신청서'!$K$29 -> 11-111-1111 | H10: =+'1. (국문)신청서'!$K$30 -> 111-1111-1111 | I10: =+'1. (국문)신청서'!$K$31 -> 0 | J10: =+'1. (국문)신청서'!$AD$27 -> 0 | K10: =+'1. (국문)신청서'!$AD$28 -> 0 | L10: =+'1. (국문)신청서'!$AD$29 -> 11-111-1111 | M10: =+'1. (국문)신청서'!$AD$30 -> 111-1111-1111 | N10: =+'1. (국문)신청서'!$AD$31 -> 0 | O10: =+'1. (국문)신청서'!$I$45 -> 14 | P10: =+'1. (국문)신청서'!$O$45 -> 6 | Q10: =+'1. (국문)신청서'!$I$47 -> 3.7 | R10: =+'1. (국문)신청서'!$O$47 -> 1.3 | S10: ='1. (국문)신청서'!$G$87 -> 화력2 | T10: =+'1. (국문)신청서'!$C$86 -> 제품번호 | U10: =+'1. (국문)신청서'!$M$86 -> 9013100000 | V10: =+'1. (국문)신청서'!$Q$86 -> * 레이저거리측정기(LRF)를 통한 표적 거리정보 제공 * 고해상도 열영상 센서 (640 x 480) * 와이드 디스플레이 스크린 (100 x 56mm) * 탄도보정장치 내장 * 장착가능총기 HMG NATO 12.7mm (M2HB,K6) | W10: =+'1. (국문)신청서'!$AJ$87 -> 0
B11: 3 | C11: =+'1. (국문)신청서'!$N$12:$N$12 -> 0 | D11: =+'1. (국문)신청서'!$N$13 -> 111-11-11111 | E11: =+'1. (국문)신청서'!$K$27 -> 0 | F11: =+'1. (국문)신청서'!$K$28 -> 0 | G11: =+'1. (국문)신청서'!$K$29 -> 11-111-1111 | H11: =+'1. (국문)신청서'!$K$30 -> 111-1111-1111 | I11: =+'1. (국문)신청서'!$K$31 -> 0 | J11: =+'1. (국문)신청서'!$AD$27 -> 0 | K11: =+'1. (국문)신청서'!$AD$28 -> 0 | L11: =+'1. (국문)신청서'!$AD$29 -> 11-111-1111 | M11: =+'1. (국문)신청서'!$AD$30 -> 111-1111-1111 | N11: =+'1. (국문)신청서'!$AD$31 -> 0 | O11: =+'1. (국문)신청서'!$I$45 -> 14 | P11: =+'1. (국문)신청서'!$O$45 -> 6 | Q11: =+'1. (국문)신청서'!$I$47 -> 3.7 | R11: =+'1. (국문)신청서'!$O$47 -> 1.3 | S11: ='1. (국문)신청서'!$G$87 -> 화력2 | T11: =+'1. (국문)신청서'!$C$86 -> 제품번호 | U11: =+'1. (국문)신청서'!$M$86 -> 9013100000 | V11: =+'1. (국문)신청서'!$Q$86 -> * 레이저거리측정기(LRF)를 통한 표적 거리정보 제공 * 고해상도 열영상 센서 (640 x 480) * 와이드 디스플레이 스크린 (100 x 56mm) * 탄도보정장치 내장 * 장착가능총기 HMG NATO 12.7mm (M2HB,K6) | W11: =+'1. (국문)신청서'!$AJ$88 -> 0
B12: 4 | C12: =+'1. (국문)신청서'!$N$12:$N$12 -> 0 | D12: =+'1. (국문)신청서'!$N$13 -> 111-11-11111 | E12: =+'1. (국문)신청서'!$K$27 -> 0 | F12: =+'1. (국문)신청서'!$K$28 -> 0 | G12: =+'1. (국문)신청서'!$K$29 -> 11-111-1111 | H12: =+'1. (국문)신청서'!$K$30 -> 111-1111-1111 | I12: =+'1. (국문)신청서'!$K$31 -> 0 | J12: =+'1. (국문)신청서'!$AD$27 -> 0 | K12: =+'1. (국문)신청서'!$AD$28 -> 0 | L12: =+'1. (국문)신청서'!$AD$29 -> 11-111-1111 | M12: =+'1. (국문)신청서'!$AD$30 -> 111-1111-1111 | N12: =+'1. (국문)신청서'!$AD$31 -> 0 | O12: =+'1. (국문)신청서'!$I$45 -> 14 | P12: =+'1. (국문)신청서'!$O$45 -> 6 | Q12: =+'1. (국문)신청서'!$I$47 -> 3.7 | R12: =+'1. (국문)신청서'!$O$47 -> 1.3 | S12: ='1. (국문)신청서'!$G$87 -> 화력2 | T12: =+'1. (국문)신청서'!$C$86 -> 제품번호 | U12: =+'1. (국문)신청서'!$M$86 -> 9013100000 | V12: =+'1. (국문)신청서'!$Q$86 -> * 레이저거리측정기(LRF)를 통한 표적 거리정보 제공 * 고해상도 열영상 센서 (640 x 480) * 와이드 디스플레이 스크린 (100 x 56mm) * 탄도보정장치 내장 * 장착가능총기 HMG NATO 12.7mm (M2HB,K6) | W12: =+'1. (국문)신청서'!$AJ$89 -> 0
B13: 5 | C13: =+'1. (국문)신청서'!$N$12:$N$12 -> 0 | D13: =+'1. (국문)신청서'!$N$13 -> 111-11-11111 | E13: =+'1. (국문)신청서'!$K$27 -> 0 | F13: =+'1. (국문)신청서'!$K$28 -> 0 | G13: =+'1. (국문)신청서'!$K$29 -> 11-111-1111 | H13: =+'1. (국문)신청서'!$K$30 -> 111-1111-1111 | I13: =+'1. (국문)신청서'!$K$31 -> 0 | J13: =+'1. (국문)신청서'!$AD$27 -> 0 | K13: =+'1. (국문)신청서'!$AD$28 -> 0 | L13: =+'1. (국문)신청서'!$AD$29 -> 11-111-1111 | M13: =+'1. (국문)신청서'!$AD$30 -> 111-1111-1111 | N13: =+'1. (국문)신청서'!$AD$31 -> 0 | O13: =+'1. (국문)신청서'!$I$45 -> 14 | P13: =+'1. (국문)신청서'!$O$45 -> 6 | Q13: =+'1. (국문)신청서'!$I$47 -> 3.7 | R13: =+'1. (국문)신청서'!$O$47 -> 1.3 | S13: ='1. (국문)신청서'!$G$87 -> 화력2 | T13: =+'1. (국문)신청서'!$C$86 -> 제품번호 | U13: =+'1. (국문)신청서'!$M$86 -> 9013100000 | V13: =+'1. (국문)신청서'!$Q$86 -> * 레이저거리측정기(LRF)를 통한 표적 거리정보 제공 * 고해상도 열영상 센서 (640 x 480) * 와이드 디스플레이 스크린 (100 x 56mm) * 탄도보정장치 내장 * 장착가능총기 HMG NATO 12.7mm (M2HB,K6) | W13: =+'1. (국문)신청서'!$AJ$99 -> 완제품
B14: 6 | C14: =+'1. (국문)신청서'!$N$12:$N$12 -> 0 | D14: =+'1. (국문)신청서'!$N$13 -> 111-11-11111 | E14: =+'1. (국문)신청서'!$K$27 -> 0 | F14: =+'1. (국문)신청서'!$K$28 -> 0 | G14: =+'1. (국문)신청서'!$K$29 -> 11-111-1111 | H14: =+'1. (국문)신청서'!$K$30 -> 111-1111-1111 | I14: =+'1. (국문)신청서'!$K$31 -> 0 | J14: =+'1. (국문)신청서'!$AD$27 -> 0 | K14: =+'1. (국문)신청서'!$AD$28 -> 0 | L14: =+'1. (국문)신청서'!$AD$29 -> 11-111-1111 | M14: =+'1. (국문)신청서'!$AD$30 -> 111-1111-1111 | N14: =+'1. (국문)신청서'!$AD$31 -> 0 | O14: =+'1. (국문)신청서'!$I$45 -> 14 | P14: =+'1. (국문)신청서'!$O$45 -> 6 | Q14: =+'1. (국문)신청서'!$I$47 -> 3.7 | R14: =+'1. (국문)신청서'!$O$47 -> 1.3 | S14: ='1. (국문)신청서'!$G$87 -> 화력2 | T14: =+'1. (국문)신청서'!$C$86 -> 제품번호 | U14: =+'1. (국문)신청서'!$M$86 -> 9013100000 | V14: =+'1. (국문)신청서'!$Q$86 -> * 레이저거리측정기(LRF)를 통한 표적 거리정보 제공 * 고해상도 열영상 센서 (640 x 480) * 와이드 디스플레이 스크린 (100 x 56mm) * 탄도보정장치 내장 * 장착가능총기 HMG NATO 12.7mm (M2HB,K6) | W14: =+'1. (국문)신청서'!$AJ$100 -> 0
B15: 7 | C15: =+'1. (국문)신청서'!$N$12:$N$12 -> 0 | D15: =+'1. (국문)신청서'!$N$13 -> 111-11-11111 | E15: =+'1. (국문)신청서'!$K$27 -> 0 | F15: =+'1. (국문)신청서'!$K$28 -> 0 | G15: =+'1. (국문)신청서'!$K$29 -> 11-111-1111 | H15: =+'1. (국문)신청서'!$K$30 -> 111-1111-1111 | I15: =+'1. (국문)신청서'!$K$31 -> 0 | J15: =+'1. (국문)신청서'!$AD$27 -> 0 | K15: =+'1. (국문)신청서'!$AD$28 -> 0 | L15: =+'1. (국문)신청서'!$AD$29 -> 11-111-1111 | M15: =+'1. (국문)신청서'!$AD$30 -> 111-1111-1111 | N15: =+'1. (국문)신청서'!$AD$31 -> 0 | O15: =+'1. (국문)신청서'!$I$45 -> 14 | P15: =+'1. (국문)신청서'!$O$45 -> 6 | Q15: =+'1. (국문)신청서'!$I$47 -> 3.7 | R15: =+'1. (국문)신청서'!$O$47 -> 1.3 | S15: ='1. (국문)신청서'!$G$87 -> 화력2 | T15: =+'1. (국문)신청서'!$C$86 -> 제품번호 | U15: =+'1. (국문)신청서'!$M$86 -> 9013100000 | V15: =+'1. (국문)신청서'!$Q$86 -> * 레이저거리측정기(LRF)를 통한 표적 거리정보 제공 * 고해상도 열영상 센서 (640 x 480) * 와이드 디스플레이 스크린 (100 x 56mm) * 탄도보정장치 내장 * 장착가능총기 HMG NATO 12.7mm (M2HB,K6) | W15: =+'1. (국문)신청서'!$AJ$101 -> 0
B16: 8 | C16: =+'1. (국문)신청서'!$N$12:$N$12 -> 0 | D16: =+'1. (국문)신청서'!$N$13 -> 111-11-11111 | E16: =+'1. (국문)신청서'!$K$27 -> 0 | F16: =+'1. (국문)신청서'!$K$28 -> 0 | G16: =+'1. (국문)신청서'!$K$29 -> 11-111-1111 | H16: =+'1. (국문)신청서'!$K$30 -> 111-1111-1111 | I16: =+'1. (국문)신청서'!$K$31 -> 0 | J16: =+'1. (국문)신청서'!$AD$27 -> 0 | K16: =+'1. (국문)신청서'!$AD$28 -> 0 | L16: =+'1. (국문)신청서'!$AD$29 -> 11-111-1111 | M16: =+'1. (국문)신청서'!$AD$30 -> 111-1111-1111 | N16: =+'1. (국문)신청서'!$AD$31 -> 0 | O16: =+'1. (국문)신청서'!$I$45 -> 14 | P16: =+'1. (국문)신청서'!$O$45 -> 6 | Q16: =+'1. (국문)신청서'!$I$47 -> 3.7 | R16: =+'1. (국문)신청서'!$O$47 -> 1.3 | S16: ='1. (국문)신청서'!$G$87 -> 화력2 | T16: =+'1. (국문)신청서'!$C$86 -> 제품번호 | U16: =+'1. (국문)신청서'!$M$86 -> 9013100000 | V16: =+'1. (국문)신청서'!$Q$86 -> * 레이저거리측정기(LRF)를 통한 표적 거리정보 제공 * 고해상도 열영상 센서 (640 x 480) * 와이드 디스플레이 스크린 (100 x 56mm) * 탄도보정장치 내장 * 장착가능총기 HMG NATO 12.7mm (M2HB,K6) | W16: =+'1. (국문)신청서'!$AJ$102 -> 0
B17: 9
B18: 10
B19: 11
B20: 12
B21: 13
B22: 14
B26: No. | C26: 영문
C27: Company Name | D27: Business Registration NO. | E27: Contact Points | O27: =+'1. (영문)신청서'!#REF! -> #REF! | S27: Business info
E28: POC1 | J28: POC2 | O28: =+'1. (영문)신청서'!#REF! -> #REF! | Q28: =+'1. (영문)신청서'!#REF! -> #REF! | S28: Field | T28: Item | U28: HS CODE | V28: Product info
E29: Name | F29: Title | G29: Phone | H29: Mobile | I29: e-mail | J29: Name | K29: Title | L29: Phone | M29: Mobile | N29: e-mail | O29: 2020 | P29: 2021 | Q29: 2020 | R29: 2021 | V29: Spec. | W29: Type of Export
B30: 1 | C30: =+'1. (영문)신청서'!$N$12 -> 0 | D30: =+'1. (영문)신청서'!$N$13 -> 111-11-11111 | E30: =+'1. (영문)신청서'!$K$27 -> 0 | F30: =+'1. (영문)신청서'!$K$28 -> 0 | G30: =+'1. (영문)신청서'!$K$29 -> 11-111-1111 | H30: =+'1. (영문)신청서'!$K$30 -> 111-1111-1111 | I30: =+'1. (영문)신청서'!$K$31 -> 0 | J30: =+'1. (영문)신청서'!$AD$27 -> 0 | K30: =+'1. (영문)신청서'!$AD$28 -> 0 | L30: =+'1. (영문)신청서'!$AD$29 -> 11-111-1111 | M30: =+'1. (영문)신청서'!$AD$30 -> 111-1111-1111 | N30: =+'1. (영문)신청서'!$AD$31 -> 0 | O30: =+'1. (영문)신청서'!$I$45 -> 20 | P30: =+'1. (영문)신청서'!$O$45 -> 12 | Q30: =+'1. (영문)신청서'!$I$47 -> 10 | R30: =+'1. (영문)신청서'!$O$47 -> 14 | S30: =+'1. (영문)신청서'!$G$79 -> Firepowers2 | T30: =+'1. (영문)신청서'!$C$78 -> Product Number | U30: =+'1. (영문)신청서'!$M$78 -> 9013100000 | V30: =+'1. (영문)신청서'!$Q$78 -> *Target distance information provided through Laser Range Finder(LRF), * High Resolution Thermal Image Sensor (640 x 480) * Wide Display Screen (100 x 56mm) * Integrated trajectory compensator system : * Designed Weapons : HMG NATO 12.7mm (M2HB,K6) | W30: =+'1. (영문)신청서'!$AJ$78 -> Complete goods
B31: 2 | C31: =+'1. (영문)신청서'!$N$12 -> 0 | D31: =+'1. (영문)신청서'!$N$13 -> 111-11-11111 | E31: =+'1. (영문)신청서'!$K$27 -> 0 | F31: =+'1. (영문)신청서'!$K$28 -> 0 | G31: =+'1. (영문)신청서'!$K$29 -> 11-111-1111 | H31: =+'1. (영문)신청서'!$K$30 -> 111-1111-1111 | I31: =+'1. (영문)신청서'!$K$31 -> 0 | J31: =+'1. (영문)신청서'!$AD$27 -> 0 | K31: =+'1. (영문)신청서'!$AD$28 -> 0 | L31: =+'1. (영문)신청서'!$AD$29 -> 11-111-1111 | M31: =+'1. (영문)신청서'!$AD$30 -> 111-1111-1111 | N31: =+'1. (영문)신청서'!$AD$31 -> 0 | O31: =+'1. (영문)신청서'!$I$45 -> 20 | P31: =+'1. (영문)신청서'!$O$45 -> 12 | Q31: =+'1. (영문)신청서'!$I$47 -> 10 | R31: =+'1. (영문)신청서'!$O$47 -> 14 | S31: =+'1. (영문)신청서'!$G$79 -> Firepowers2 | T31: =+'1. (영문)신청서'!$C$78 -> Product Number | U31: =+'1. (영문)신청서'!$M$78 -> 9013100000 | V31: =+'1. (영문)신청서'!$Q$78 -> *Target distance information provided through Laser Range Finder(LRF), * High Resolution Thermal Image Sensor (640 x 480) * Wide Display Screen (100 x 56mm) * Integrated trajectory compensator system : * Designed Weapons : HMG NATO 12.7mm (M2HB,K6) | W31: =+'1. (영문)신청서'!$AJ$78 -> Complete goods
B32: 3 | C32: =+'1. (영문)신청서'!$N$12 -> 0 | D32: =+'1. (영문)신청서'!$N$13 -> 111-11-11111 | E32: =+'1. (영문)신청서'!$K$27 -> 0 | F32: =+'1. (영문)신청서'!$K$28 -> 0 | G32: =+'1. (영문)신청서'!$K$29 -> 11-111-1111 | H32: =+'1. (영문)신청서'!$K$30 -> 111-1111-1111 | I32: =+'1. (영문)신청서'!$K$31 -> 0 | J32: =+'1. (영문)신청서'!$AD$27 -> 0 | K32: =+'1. (영문)신청서'!$AD$28 -> 0 | L32: =+'1. (영문)신청서'!$AD$29 -> 11-111-1111 | M32: =+'1. (영문)신청서'!$AD$30 -> 111-1111-1111 | N32: =+'1. (영문)신청서'!$AD$31 -> 0 | O32: =+'1. (영문)신청서'!$I$45 -> 20 | P32: =+'1. (영문)신청서'!$O$45 -> 12 | Q32: =+'1. (영문)신청서'!$I$47 -> 10 | R32: =+'1. (영문)신청서'!$O$47 -> 14 | S32: =+'1. (영문)신청서'!$G$79 -> Firepowers2 | T32: =+'1. (영문)신청서'!$C$78 -> Product Number | U32: =+'1. (영문)신청서'!$M$78 -> 9013100000 | V32: =+'1. (영문)신청서'!$Q$78 -> *Target distance information provided through Laser Range Finder(LRF), * High Resolution Thermal Image Sensor (640 x 480) * Wide Display Screen (100 x 56mm) * Integrated trajectory compensator system : * Designed Weapons : HMG NATO 12.7mm (M2HB,K6) | W32: =+'1. (영문)신청서'!$AJ$78 -> Complete goods
B33: 4 | C33: =+'1. (영문)신청서'!$N$12 -> 0 | D33: =+'1. (영문)신청서'!$N$13 -> 111-11-11111 | E33: =+'1. (영문)신청서'!$K$27 -> 0 | F33: =+'1. (영문)신청서'!$K$28 -> 0 | G33: =+'1. (영문)신청서'!$K$29 -> 11-111-1111 | H33: =+'1. (영문)신청서'!$K$30 -> 111-1111-1111 | I33: =+'1. (영문)신청서'!$K$31 -> 0 | J33: =+'1. (영문)신청서'!$AD$27 -> 0 | K33: =+'1. (영문)신청서'!$AD$28 -> 0 | L33: =+'1. (영문)신청서'!$AD$29 -> 11-111-1111 | M33: =+'1. (영문)신청서'!$AD$30 -> 111-1111-1111 | N33: =+'1. (영문)신청서'!$AD$31 -> 0 | O33: =+'1. (영문)신청서'!$I$45 -> 20 | P33: =+'1. (영문)신청서'!$O$45 -> 12 | Q33: =+'1. (영문)신청서'!$I$47 -> 10 | R33: =+'1. (영문)신청서'!$O$47 -> 14 | S33: =+'1. (영문)신청서'!$G$79 -> Firepowers2 | T33: =+'1. (영문)신청서'!$C$78 -> Product Number | U33: =+'1. (영문)신청서'!$M$78 -> 9013100000 | V33: =+'1. (영문)신청서'!$Q$78 -> *Target distance information provided through Laser Range Finder(LRF), * High Resolution Thermal Image Sensor (640 x 480) * Wide Display Screen (100 x 56mm) * Integrated trajectory compensator system : * Designed Weapons : HMG NATO 12.7mm (M2HB,K6) | W33: =+'1. (영문)신청서'!$AJ$78 -> Complete goods
B34: 5 | C34: =+'1. (영문)신청서'!$N$12 -> 0 | D34: =+'1. (영문)신청서'!$N$13 -> 111-11-11111 | E34: =+'1. (영문)신청서'!$K$27 -> 0 | F34: =+'1. (영문)신청서'!$K$28 -> 0 | G34: =+'1. (영문)신청서'!$K$29 -> 11-111-1111 | H34: =+'1. (영문)신청서'!$K$30 -> 111-1111-1111 | I34: =+'1. (영문)신청서'!$K$31 -> 0 | J34: =+'1. (영문)신청서'!$AD$27 -> 0 | K34: =+'1. (영문)신청서'!$AD$28 -> 0 | L34: =+'1. (영문)신청서'!$AD$29 -> 11-111-1111 | M34: =+'1. (영문)신청서'!$AD$30 -> 111-1111-1111 | N34: =+'1. (영문)신청서'!$AD$31 -> 0 | O34: =+'1. (영문)신청서'!$I$45 -> 20 | P34: =+'1. (영문)신청서'!$O$45 -> 12 | Q34: =+'1. (영문)신청서'!$I$47 -> 10 | R34: =+'1. (영문)신청서'!$O$47 -> 14 | S34: =+'1. (영문)신청서'!$G$79 -> Firepowers2 | T34: =+'1. (영문)신청서'!$C$78 -> Product Number | U34: =+'1. (영문)신청서'!$M$90 -> 9013809000 | V34: =+'1. (영문)신청서'!$Q$90 -> * Extra Wide Lens (120 x 70mm) * Allows operators to track moving target with both eyes open, * Main Body is made with CNC machined from a solid block of 6061-T6 aircraft aluminum, * Integrated the recoil compensator retainer prevents loss of target on high recoil weapons. * Integrated trajectory compensator system * Designed Weapons : HMG NATO 12.7mm (M2HB,K6) | W34: =+'1. (영문)신청서'!$AJ$90 -> Complete goods
B35: 6 | C35: =+'1. (영문)신청서'!$N$12 -> 0 | D35: =+'1. (영문)신청서'!$N$13 -> 111-11-11111 | E35: =+'1. (영문)신청서'!$K$27 -> 0 | F35: =+'1. (영문)신청서'!$K$28 -> 0 | G35: =+'1. (영문)신청서'!$K$29 -> 11-111-1111 | H35: =+'1. (영문)신청서'!$K$30 -> 111-1111-1111 | I35: =+'1. (영문)신청서'!$K$31 -> 0 | J35: =+'1. (영문)신청서'!$AD$27 -> 0 | K35: =+'1. (영문)신청서'!$AD$28 -> 0 | L35: =+'1. (영문)신청서'!$AD$29 -> 11-111-1111 | M35: =+'1. (영문)신청서'!$AD$30 -> 111-1111-1111 | N35: =+'1. (영문)신청서'!$AD$31 -> 0 | O35: =+'1. (영문)신청서'!$I$45 -> 20 | P35: =+'1. (영문)신청서'!$O$45 -> 12 | Q35: =+'1. (영문)신청서'!$I$47 -> 10 | R35: =+'1. (영문)신청서'!$O$47 -> 14 | S35: =+'1. (영문)신청서'!$G$79 -> Firepowers2 | T35: =+'1. (영문)신청서'!$C$78 -> Product Number | U35: =+'1. (영문)신청서'!$M$90 -> 9013809000 | V35: =+'1. (영문)신청서'!$Q$90 -> * Extra Wide Lens (120 x 70mm) * Allows operators to track moving target with both eyes open, * Main Body is made with CNC machined from a solid block of 6061-T6 aircraft aluminum, * Integrated the recoil compensator retainer prevents loss of target on high recoil weapons. * Integrated trajectory compensator system * Designed Weapons : HMG NATO 12.7mm (M2HB,K6) | W35: =+'1. (영문)신청서'!$AJ$90 -> Complete goods
B36: 7 | C36: =+'1. (영문)신청서'!$N$12 -> 0 | D36: =+'1. (영문)신청서'!$N$13 -> 111-11-11111 | E36: =+'1. (영문)신청서'!$K$27 -> 0 | F36: =+'1. (영문)신청서'!$K$28 -> 0 | G36: =+'1. (영문)신청서'!$K$29 -> 11-111-1111 | H36: =+'1. (영문)신청서'!$K$30 -> 111-1111-1111 | I36: =+'1. (영문)신청서'!$K$31 -> 0 | J36: =+'1. (영문)신청서'!$AD$27 -> 0 | K36: =+'1. (영문)신청서'!$AD$28 -> 0 | L36: =+'1. (영문)신청서'!$AD$29 -> 11-111-1111 | M36: =+'1. (영문)신청서'!$AD$30 -> 111-1111-1111 | N36: =+'1. (영문)신청서'!$AD$31 -> 0 | O36: =+'1. (영문)신청서'!$I$45 -> 20 | P36: =+'1. (영문)신청서'!$O$45 -> 12 | Q36: =+'1. (영문)신청서'!$I$47 -> 10 | R36: =+'1. (영문)신청서'!$O$47 -> 14 | S36: =+'1. (영문)신청서'!$G$79 -> Firepowers2 | T36: =+'1. (영문)신청서'!$C$78 -> Product Number | U36: =+'1. (영문)신청서'!$M$90 -> 9013809000 | V36: =+'1. (영문)신청서'!$Q$90 -> * Extra Wide Lens (120 x 70mm) * Allows operators to track moving target with both eyes open, * Main Body is made with CNC machined from a solid block of 6061-T6 aircraft aluminum, * Integrated the recoil compensator retainer prevents loss of target on high recoil weapons. * Integrated trajectory compensator system * Designed Weapons : HMG NATO 12.7mm (M2HB,K6) | W36: =+'1. (영문)신청서'!$AJ$90 -> Complete goods
B37: 8 | C37: =+'1. (영문)신청서'!$N$12 -> 0 | D37: =+'1. (영문)신청서'!$N$13 -> 111-11-11111 | E37: =+'1. (영문)신청서'!$K$27 -> 0 | F37: =+'1. (영문)신청서'!$K$28 -> 0 | G37: =+'1. (영문)신청서'!$K$29 -> 11-111-1111 | H37: =+'1. (영문)신청서'!$K$30 -> 111-1111-1111 | I37: =+'1. (영문)신청서'!$K$31 -> 0 | J37: =+'1. (영문)신청서'!$AD$27 -> 0 | K37: =+'1. (영문)신청서'!$AD$28 -> 0 | L37: =+'1. (영문)신청서'!$AD$29 -> 11-111-1111 | M37: =+'1. (영문)신청서'!$AD$30 -> 111-1111-1111 | N37: =+'1. (영문)신청서'!$AD$31 -> 0 | O37: =+'1. (영문)신청서'!$I$45 -> 20 | P37: =+'1. (영문)신청서'!$O$45 -> 12 | Q37: =+'1. (영문)신청서'!$I$47 -> 10 | R37: =+'1. (영문)신청서'!$O$47 -> 14 | S37: =+'1. (영문)신청서'!$G$79 -> Firepowers2 | T37: =+'1. (영문)신청서'!$C$78 -> Product Number | U37: =+'1. (영문)신청서'!$M$90 -> 9013809000 | V37: =+'1. (영문)신청서'!$Q$90 -> * Extra Wide Lens (120 x 70mm) * Allows operators to track moving target with both eyes open, * Main Body is made with CNC machined from a solid block of 6061-T6 aircraft aluminum, * Integrated the recoil compensator retainer prevents loss of target on high recoil weapons. * Integrated trajectory compensator system * Designed Weapons : HMG NATO 12.7mm (M2HB,K6) | W37: =+'1. (영문)신청서'!$AJ$90 -> Complete goods
B38: 9
B39: 10
B40: 11
B41: 12
B42: 13
B43: 14

Sheet 통합관리시트_관리용
A3: ▣ 기업 data 통합 관리 시트
B5: No. | C5: 국문 | X5: 영문
C6: 회사명 | D6: 사업자 등록번호 | E6: 연락 정보 | O6: 매출 성과(USD 백만) | S6: 사업분야 | X6: Company Name | Y6: Contact Points | AI6: Sales & Export Info(USD Mil) | AM6: Business info
E7: 담당자1 | J7: 담당자2 | O7: 연간 매출 | Q7: 연간수출 | S7: 대분류 | T7: 제품명 | U7: HS CODE | V7: 제품설명 | Y7: POC1 | AD7: POC2 | AI7: Annual Sales | AK7: Annual Export | AM7: Field | AN7: Item | AO7: HS CODE | AP7: Product info
E8: 이름 | F8: 직책 | G8: 연락처(사무실) | H8: 연락처(휴대전화) | I8: e-mail | J8: 이름 | K8: 직책 | L8: 연락처(사무실) | M8: 연락처(휴대전화) | N8: e-mail | O8: 2020 | P8: 2021 | Q8: 2020 | R8: 2021 | V8: 재원 | W8: 수출가능유형 | Y8: Name | Z8: Title | AA8: Phone | AB8: Mobile | AC8: e-mail | AD8: Name | AE8: Title | AF8: Phone | AG8: Mobile | AH8: e-mail | AI8: 2020 | AJ8: 2021 | AK8: 2020 | AL8: 2021 | AP8: Spec. | AQ8: Type of Export
B9: 1 | C9: =+'1. (국문)신청서'!$N$12:$N$12 -> 0 | D9: =+'1. (국문)신청서'!$N$13 -> 111-11-11111 | E9: =+'1. (국문)신청서'!$K$27 -> 0 | F9: =+'1. (국문)신청서'!$K$28 -> 0 | G9: =+'1. (국문)신청서'!$K$29 -> 11-111-1111 | H9: =+'1. (국문)신청서'!$K$30 -> 111-1111-1111 | I9: =+'1. (국문)신청서'!$K$31 -> 0 | J9: =+'1. (국문)신청서'!$AD$27 -> 0 | K9: =+'1. (국문)신청서'!$AD$28 -> 0 | L9: =+'1. (국문)신청서'!$AD$29 -> 11-111-1111 | M9: =+'1. (국문)신청서'!$AD$30 -> 111-1111-1111 | N9: =+'1. (국문)신청서'!$AD$31 -> 0 | O9: =+'1. (국문)신청서'!$I$45 -> 14 | P9: =+'1. (국문)신청서'!$O$45 -> 6 | Q9: =+'1. (국문)신청서'!$I$47 -> 3.7 | R9: =+'1. (국문)신청서'!$O$47 -> 1.3 | S9: ='1. (국문)신청서'!$G$87 -> 화력2 | T9: =+'1. (국문)신청서'!$C$86 -> 제품번호 | U9: =+'1. (국문)신청서'!$M$86 -> 9013100000 | V9: =+'1. (국문)신청서'!$Q$86 -> * 레이저거리측정기(LRF)를 통한 표적 거리정보 제공 * 고해상도 열영상 센서 (640 x 480) * 와이드 디스플레이 스크린 (100 x 56mm) * 탄도보정장치 내장 * 장착가능총기 HMG NATO 12.7mm (M2HB,K6) | W9: =+'1. (국문)신청서'!$AJ$86 -> 완제품 | X9: =+'1. (영문)신청서'!$N$12 -> 0 | Y9: =+'1. (영문)신청서'!$K$27 -> 0 | Z9: =+'1. (영문)신청서'!$K$28 -> 0 | AA9: =+'1. (영문)신청서'!$K$29 -> 11-111-1111 | AB9: =+'1. (영문)신청서'!$K$30 -> 111-1111-1111 | AC9: =+'1. (영문)신청서'!$K$31 -> 0 | AD9: =+'1. (영문)신청서'!$AD$27 -> 0 | AE9: =+'1. (영문)신청서'!$AD$28 -> 0 | AF9: =+'1. (영문)신청서'!$AD$29 -> 11-111-1111 | AG9: =+'1. (영문)신청서'!$AD$30 -> 111-1111-1111 | AH9: =+'1. (영문)신청서'!$AD$31 -> 0 | AI9: =+'1. (영문)신청서'!$I$45 -> 20 | AJ9: =+'1. (영문)신청서'!$O$45 -> 12 | AK9: =+'1. (영문)신청서'!$I$47 -> 10 | AL9: =+'1. (영문)신청서'!$O$47 -> 14 | AM9: =+'1. (영문)신청서'!$G$79 -> Firepowers2 | AN9: =+'1. (영문)신청서'!$C$78 -> Product Number | AO9: =+'1. (영문)신청서'!$M$78 -> 9013100000 | AP9: =+'1. (영문)신청서'!$Q$78 -> *Target distance information provided through Laser Range Finder(LRF), * High Resolution Thermal Image Sensor (640 x 480) * Wide Display Screen (100 x 56mm) * Integrated trajectory compensator system : * Designed Weapons : HMG NATO 12.7mm (M2HB,K6) | AQ9: =+'1. (영문)신청서'!AJ78 -> Complete goods
B10: 2 | C10: =+'1. (국문)신청서'!$N$12:$N$12 -> 0 | D10: =+'1. (국문)신청서'!$N$13 -> 111-11-11111 | E10: =+'1. (국문)신청서'!$K$27 -> 0 | F10: =+'1. (국문)신청서'!$K$28 -> 0 | G10: =+'1. (국문)신청서'!$K$29 -> 11-111-1111 | H10: =+'1. (국문)신청서'!$K$30 -> 111-1111-1111 | I10: =+'1. (국문)신청서'!$K$31 -> 0 | J10: =+'1. (국문)신청서'!$AD$27 -> 0 | K10: =+'1. (국문)신청서'!$AD$28 -> 0 | L10: =+'1. (국문)신청서'!$AD$29 -> 11-111-1111 | M10: =+'1. (국문)신청서'!$AD$30 -> 111-1111-1111 | N10: =+'1. (국문)신청서'!$AD$31 -> 0 | O10: =+'1. (국문)신청서'!$I$45 -> 14 | P10: =+'1. (국문)신청서'!$O$45 -> 6 | Q10: =+'1. (국문)신청서'!$I$47 -> 3.7 | R10: =+'1. (국문)신청서'!$O$47 -> 1.3 | S10: ='1. (국문)신청서'!$G$87 -> 화력2 | T10: =+'1. (국문)신청서'!$C$86 -> 제품번호 | U10: =+'1. (국문)신청서'!$M$86 -> 9013100000 | V10: =+'1. (국문)신청서'!$Q$86 -> * 레이저거리측정기(LRF)를 통한 표적 거리정보 제공 * 고해상도 열영상 센서 (640 x 480) * 와이드 디스플레이 스크린 (100 x 56mm) * 탄도보정장치 내장 * 장착가능총기 HMG NATO 12.7mm (M2HB,K6) | W10: =+'1. (국문)신청서'!$AJ$87 -> 0 | X10: =+'1. (영문)신청서'!$N$12 -> 0 | Y10: =+'1. (영문)신청서'!$K$27 -> 0 | Z10: =+'1. (영문)신청서'!$K$28 -> 0 | AA10: =+'1. (영문)신청서'!$K$29 -> 11-111-1111 | AB10: =+'1. (영문)신청서'!$K$30 -> 111-1111-1111 | AC10: =+'1. (영문)신청서'!$K$31 -> 0 | AD10: =+'1. (영문)신청서'!$AD$27 -> 0 | AE10: =+'1. (영문)신청서'!$AD$28 -> 0 | AF10: =+'1. (영문)신청서'!$AD$29 -> 11-111-1111 | AG10: =+'1. (영문)신청서'!$AD$30 -> 111-1111-1111 | AH10: =+'1. (영문)신청서'!$AD$31 -> 0 | AI10: =+'1. (영문)신청서'!$I$45 -> 20 | AJ10: =+'1. (영문)신청서'!$O$45 -> 12 | AK10: =+'1. (영문)신청서'!$I$47 -> 10 | AL10: =+'1. (영문)신청서'!$O$47 -> 14 | AM10: =+'1. (영문)신청서'!$G$79 -> Firepowers2 | AN10: =+'1. (영문)신청서'!$C$78 -> Product Number | AO10: =+'1. (영문)신청서'!$M$78 -> 9013100000 | AP10: =+'1. (영문)신청서'!$Q$78 -> *Target distance information provided through Laser Range Finder(LRF), * High Resolution Thermal Image Sensor (640 x 480) * Wide Display Screen (100 x 56mm) * Integrated trajectory compensator system : * Designed Weapons : HMG NATO 12.7mm (M2HB,K6) | AQ10: =+'1. (영문)신청서'!AJ79 -> 0
B11: 3 | C11: =+'1. (국문)신청서'!$N$12:$N$12 -> 0 | D11: =+'1. (국문)신청서'!$N$13 -> 111-11-11111 | E11: =+'1. (국문)신청서'!$K$27 -> 0 | F11: =+'1. (국문)신청서'!$K$28 -> 0 | G11: =+'1. (국문)신청서'!$K$29 -> 11-111-1111 | H11: =+'1. (국문)신청서'!$K$30 -> 111-1111-1111 | I11: =+'1. (국문)신청서'!$K$31 -> 0 | J11: =+'1. (국문)신청서'!$AD$27 -> 0 | K11: =+'1. (국문)신청서'!$AD$28 -> 0 | L11: =+'1. (국문)신청서'!$AD$29 -> 11-111-1111 | M11: =+'1. (국문)신청서'!$AD$30 -> 111-1111-1111 | N11: =+'1. (국문)신청서'!$AD$31 -> 0 | O11: =+'1. (국문)신청서'!$I$45 -> 14 | P11: =+'1. (국문)신청서'!$O$45 -> 6 | Q11: =+'1. (국문)신청서'!$I$47 -> 3.7 | R11: =+'1. (국문)신청서'!$O$47 -> 1.3 | S11: ='1. (국문)신청서'!$G$87 -> 화력2 | T11: =+'1. (국문)신청서'!$C$86 -> 제품번호 | U11: =+'1. (국문)신청서'!$M$86 -> 9013100000 | V11: =+'1. (국문)신청서'!$Q$86 -> * 레이저거리측정기(LRF)를 통한 표적 거리정보 제공 * 고해상도 열영상 센서 (640 x 480) * 와이드 디스플레이 스크린 (100 x 56mm) * 탄도보정장치 내장 * 장착가능총기 HMG NATO 12.7mm (M2HB,K6) | W11: =+'1. (국문)신청서'!$AJ$88 -> 0 | X11: =+'1. (영문)신청서'!$N$12 -> 0 | Y11: =+'1. (영문)신청서'!$K$27 -> 0 | Z11: =+'1. (영문)신청서'!$K$28 -> 0 | AA11: =+'1. (영문)신청서'!$K$29 -> 11-111-1111 | AB11: =+'1. (영문)신청서'!$K$30 -> 111-1111-1111 | AC11: =+'1. (영문)신청서'!$K$31 -> 0 | AD11: =+'1. (영문)신청서'!$AD$27 -> 0 | AE11: =+'1. (영문)신청서'!$AD$28 -> 0 | AF11: =+'1. (영문)신청서'!$AD$29 -> 11-111-1111 | AG11: =+'1. (영문)신청서'!$AD$30 -> 111-1111-1111 | AH11: =+'1. (영문)신청서'!$AD$31 -> 0 | AI11: =+'1. (영문)신청서'!$I$45 -> 20 | AJ11: =+'1. (영문)신청서'!$O$45 -> 12 | AK11: =+'1. (영문)신청서'!$I$47 -> 10 | AL11: =+'1. (영문)신청서'!$O$47 -> 14 | AM11: =+'1. (영문)신청서'!$G$79 -> Firepowers2 | AN11: =+'1. (영문)신청서'!$C$78 -> Product Number | AO11: =+'1. (영문)신청서'!$M$78 -> 9013100000 | AP11: =+'1. (영문)신청서'!$Q$78 -> *Target distance information provided through Laser Range Finder(LRF), * High Resolution Thermal Image Sensor (640 x 480) * Wide Display Screen (100 x 56mm) * Integrated trajectory compensator system : * Designed Weapons : HMG NATO 12.7mm (M2HB,K6) | AQ11: =+'1. (영문)신청서'!AJ80 -> 0
B12: 4 | C12: =+'1. (국문)신청서'!$N$12:$N$12 -> 0 | D12: =+'1. (국문)신청서'!$N$13 -> 111-11-11111 | E12: =+'1. (국문)신청서'!$K$27 -> 0 | F12: =+'1. (국문)신청서'!$K$28 -> 0 | G12: =+'1. (국문)신청서'!$K$29 -> 11-111-1111 | H12: =+'1. (국문)신청서'!$K$30 -> 111-1111-1111 | I12: =+'1. (국문)신청서'!$K$31 -> 0 | J12: =+'1. (국문)신청서'!$AD$27 -> 0 | K12: =+'1. (국문)신청서'!$AD$28 -> 0 | L12: =+'1. (국문)신청서'!$AD$29 -> 11-111-1111 | M12: =+'1. (국문)신청서'!$AD$30 -> 111-1111-1111 | N12: =+'1. (국문)신청서'!$AD$31 -> 0 | O12: =+'1. (국문)신청서'!$I$45 -> 14 | P12: =+'1. (국문)신청서'!$O$45 -> 6 | Q12: =+'1. (국문)신청서'!$I$47 -> 3.7 | R12: =+'1. (국문)신청서'!$O$47 -> 1.3 | S12: ='1. (국문)신청서'!$G$87 -> 화력2 | T12: =+'1. (국문)신청서'!$C$86 -> 제품번호 | U12: =+'1. (국문)신청서'!$M$86 -> 9013100000 | V12: =+'1. (국문)신청서'!$Q$86 -> * 레이저거리측정기(LRF)를 통한 표적 거리정보 제공 * 고해상도 열영상 센서 (640 x 480) * 와이드 디스플레이 스크린 (100 x 56mm) * 탄도보정장치 내장 * 장착가능총기 HMG NATO 12.7mm (M2HB,K6) | W12: =+'1. (국문)신청서'!$AJ$89 -> 0 | X12: =+'1. (영문)신청서'!$N$12 -> 0 | Y12: =+'1. (영문)신청서'!$K$27 -> 0 | Z12: =+'1. (영문)신청서'!$K$28 -> 0 | AA12: =+'1. (영문)신청서'!$K$29 -> 11-111-1111 | AB12: =+'1. (영문)신청서'!$K$30 -> 111-1111-1111 | AC12: =+'1. (영문)신청서'!$K$31 -> 0 | AD12: =+'1. (영문)신청서'!$AD$27 -> 0 | AE12: =+'1. (영문)신청서'!$AD$28 -> 0 | AF12: =+'1. (영문)신청서'!$AD$29 -> 11-111-1111 | AG12: =+'1. (영문)신청서'!$AD$30 -> 111-1111-1111 | AH12: =+'1. (영문)신청서'!$AD$31 -> 0 | AI12: =+'1. (영문)신청서'!$I$45 -> 20 | AJ12: =+'1. (영문)신청서'!$O$45 -> 12 | AK12: =+'1. (영문)신청서'!$I$47 -> 10 | AL12: =+'1. (영문)신청서'!$O$47 -> 14 | AM12: =+'1. (영문)신청서'!$G$79 -> Firepowers2 | AN12: =+'1. (영문)신청서'!$C$78 -> Product Number | AO12: =+'1. (영문)신청서'!$M$78 -> 9013100000 | AP12: =+'1. (영문)신청서'!$Q$78 -> *Target distance information provided through Laser Range Finder(LRF), * High Resolution Thermal Image Sensor (640 x 480) * Wide Display Screen (100 x 56mm) * Integrated trajectory compensator system : * Designed Weapons : HMG NATO 12.7mm (M2HB,K6) | AQ12: =+'1. (영문)신청서'!AJ81 -> 0
B13: 5 | C13: =+'1. (국문)신청서'!$N$12:$N$12 -> 0 | D13: =+'1. (국문)신청서'!$N$13 -> 111-11-11111 | E13: =+'1. (국문)신청서'!$K$27 -> 0 | F13: =+'1. (국문)신청서'!$K$28 -> 0 | G13: =+'1. (국문)신청서'!$K$29 -> 11-111-1111 | H13: =+'1. (국문)신청서'!$K$30 -> 111-1111-1111 | I13: =+'1. (국문)신청서'!$K$31 -> 0 | J13: =+'1. (국문)신청서'!$AD$27 -> 0 | K13: =+'1. (국문)신청서'!$AD$28 -> 0 | L13: =+'1. (국문)신청서'!$AD$29 -> 11-111-1111 | M13: =+'1. (국문)신청서'!$AD$30 -> 111-1111-1111 | N13: =+'1. (국문)신청서'!$AD$31 -> 0 | O13: =+'1. (국문)신청서'!$I$45 -> 14 | P13: =+'1. (국문)신청서'!$O$45 -> 6 | Q13: =+'1. (국문)신청서'!$I$47 -> 3.7 | R13: =+'1. (국문)신청서'!$O$47 -> 1.3 | S13: ='1. (국문)신청서'!$G$87 -> 화력2 | T13: =+'1. (국문)신청서'!$C$86 -> 제품번호 | U13: =+'1. (국문)신청서'!$M$86 -> 9013100000 | V13: =+'1. (국문)신청서'!$Q$86 -> * 레이저거리측정기(LRF)를 통한 표적 거리정보 제공 * 고해상도 열영상 센서 (640 x 480) * 와이드 디스플레이 스크린 (100 x 56mm) * 탄도보정장치 내장 * 장착가능총기 HMG NATO 12.7mm (M2HB,K6) | W13: =+'1. (국문)신청서'!$AJ$90 -> 0 | X13: =+'1. (영문)신청서'!$N$12 -> 0 | Y13: =+'1. (영문)신청서'!$K$27 -> 0 | Z13: =+'1. (영문)신청서'!$K$28 -> 0 | AA13: =+'1. (영문)신청서'!$K$29 -> 11-111-1111 | AB13: =+'1. (영문)신청서'!$K$30 -> 111-1111-1111 | AC13: =+'1. (영문)신청서'!$K$31 -> 0 | AD13: =+'1. (영문)신청서'!$AD$27 -> 0 | AE13: =+'1. (영문)신청서'!$AD$28 -> 0 | AF13: =+'1. (영문)신청서'!$AD$29 -> 11-111-1111 | AG13: =+'1. (영문)신청서'!$AD$30 -> 111-1111-1111 | AH13: =+'1. (영문)신청서'!$AD$31 -> 0 | AI13: =+'1. (영문)신청서'!$I$45 -> 20 | AJ13: =+'1. (영문)신청서'!$O$45 -> 12 | AK13: =+'1. (영문)신청서'!$I$47 -> 10 | AL13: =+'1. (영문)신청서'!$O$47 -> 14 | AM13: =+'1. (영문)신청서'!$G$79 -> Firepowers2 | AN13: =+'1. (영문)신청서'!$C$78 -> Product Number | AO13: =+'1. (영문)신청서'!$M$90 -> 9013809000 | AP13: =+'1. (영문)신청서'!$Q$90 -> * Extra Wide Lens (120 x 70mm) * Allows operators to track moving target with both eyes open, * Main Body is made with CNC machined from a solid block of 6061-T6 aircraft aluminum, * Integrated the recoil compensator retainer prevents loss of target on high recoil weapons. * Integrated trajectory compensator system * Designed Weapons : HMG NATO 12.7mm (M2HB,K6) | AQ13: =+'1. (영문)신청서'!$AJ$90 -> Complete goods
B14: 6 | C14: =+'1. (국문)신청서'!$N$12:$N$12 -> 0 | D14: =+'1. (국문)신청서'!$N$13 -> 111-11-11111 | E14: =+'1. (국문)신청서'!$K$27 -> 0 | F14: =+'1. (국문)신청서'!$K$28 -> 0 | G14: =+'1. (국문)신청서'!$K$29 -> 11-111-1111 | H14: =+'1. (국문)신청서'!$K$30 -> 111-1111-1111 | I14: =+'1. (국문)신청서'!$K$31 -> 0 | J14: =+'1. (국문)신청서'!$AD$27 -> 0 | K14: =+'1. (국문)신청서'!$AD$28 -> 0 | L14: =+'1. (국문)신청서'!$AD$29 -> 11-111-1111 | M14: =+'1. (국문)신청서'!$AD$30 -> 111-1111-1111 | N14: =+'1. (국문)신청서'!$AD$31 -> 0 | O14: =+'1. (국문)신청서'!$I$45 -> 14 | P14: =+'1. (국문)신청서'!$O$45 -> 6 | Q14: =+'1. (국문)신청서'!$I$47 -> 3.7 | R14: =+'1. (국문)신청서'!$O$47 -> 1.3 | S14: ='1. (국문)신청서'!$G$87 -> 화력2 | T14: =+'1. (국문)신청서'!$C$86 -> 제품번호 | U14: =+'1. (국문)신청서'!$M$86 -> 9013100000 | V14: =+'1. (국문)신청서'!$Q$86 -> * 레이저거리측정기(LRF)를 통한 표적 거리정보 제공 * 고해상도 열영상 센서 (640 x 480) * 와이드 디스플레이 스크린 (100 x 56mm) * 탄도보정장치 내장 * 장착가능총기 HMG NATO 12.7mm (M2HB,K6) | W14: =+'1. (국문)신청서'!$AJ$91 -> 0 | X14: =+'1. (영문)신청서'!$N$12 -> 0 | Y14: =+'1. (영문)신청서'!$K$27 -> 0 | Z14: =+'1. (영문)신청서'!$K$28 -> 0 | AA14: =+'1. (영문)신청서'!$K$29 -> 11-111-1111 | AB14: =+'1. (영문)신청서'!$K$30 -> 111-1111-1111 | AC14: =+'1. (영문)신청서'!$K$31 -> 0 | AD14: =+'1. (영문)신청서'!$AD$27 -> 0 | AE14: =+'1. (영문)신청서'!$AD$28 -> 0 | AF14: =+'1. (영문)신청서'!$AD$29 -> 11-111-1111 | AG14: =+'1. (영문)신청서'!$AD$30 -> 111-1111-1111 | AH14: =+'1. (영문)신청서'!$AD$31 -> 0 | AI14: =+'1. (영문)신청서'!$I$45 -> 20 | AJ14: =+'1. (영문)신청서'!$O$45 -> 12 | AK14: =+'1. (영문)신청서'!$I$47 -> 10 | AL14: =+'1. (영문)신청서'!$O$47 -> 14 | AM14: =+'1. (영문)신청서'!$G$79 -> Firepowers2 | AN14: =+'1. (영문)신청서'!$C$78 -> Product Number | AO14: =+'1. (영문)신청서'!$M$90 -> 9013809000 | AP14: =+'1. (영문)신청서'!$Q$90 -> * Extra Wide Lens (120 x 70mm) * Allows operators to track moving target with both eyes open, * Main Body is made with CNC machined from a solid block of 6061-T6 aircraft aluminum, * Integrated the recoil compensator retainer prevents loss of target on high recoil weapons. * Integrated trajectory compensator system * Designed Weapons : HMG NATO 12.7mm (M2HB,K6) | AQ14: =+'1. (영문)신청서'!$AJ$90 -> Complete goods
B15: 7 | C15: =+'1. (국문)신청서'!$N$12:$N$12 -> 0 | D15: =+'1. (국문)신청서'!$N$13 -> 111-11-11111 | E15: =+'1. (국문)신청서'!$K$27 -> 0 | F15: =+'1. (국문)신청서'!$K$28 -> 0 | G15: =+'1. (국문)신청서'!$K$29 -> 11-111-1111 | H15: =+'1. (국문)신청서'!$K$30 -> 111-1111-1111 | I15: =+'1. (국문)신청서'!$K$31 -> 0 | J15: =+'1. (국문)신청서'!$AD$27 -> 0 | K15: =+'1. (국문)신청서'!$AD$28 -> 0 | L15: =+'1. (국문)신청서'!$AD$29 -> 11-111-1111 | M15: =+'1. (국문)신청서'!$AD$30 -> 111-1111-1111 | N15: =+'1. (국문)신청서'!$AD$31 -> 0 | O15: =+'1. (국문)신청서'!$I$45 -> 14 | P15: =+'1. (국문)신청서'!$O$45 -> 6 | Q15: =+'1. (국문)신청서'!$I$47 -> 3.7 | R15: =+'1. (국문)신청서'!$O$47 -> 1.3 | S15: ='1. (국문)신청서'!$G$87 -> 화력2 | T15: =+'1. (국문)신청서'!$C$86 -> 제품번호 | U15: =+'1. (국문)신청서'!$M$86 -> 9013100000 | V15: =+'1. (국문)신청서'!$Q$86 -> * 레이저거리측정기(LRF)를 통한 표적 거리정보 제공 * 고해상도 열영상 센서 (640 x 480) * 와이드 디스플레이 스크린 (100 x 56mm) * 탄도보정장치 내장 * 장착가능총기 HMG NATO 12.7mm (M2HB,K6) | W15: =+'1. (국문)신청서'!$AJ$92 -> 0 | X15: =+'1. (영문)신청서'!$N$12 -> 0 | Y15: =+'1. (영문)신청서'!$K$27 -> 0 | Z15: =+'1. (영문)신청서'!$K$28 -> 0 | AA15: =+'1. (영문)신청서'!$K$29 -> 11-111-1111 | AB15: =+'1. (영문)신청서'!$K$30 -> 111-1111-1111 | AC15: =+'1. (영문)신청서'!$K$31 -> 0 | AD15: =+'1. (영문)신청서'!$AD$27 -> 0 | AE15: =+'1. (영문)신청서'!$AD$28 -> 0 | AF15: =+'1. (영문)신청서'!$AD$29 -> 11-111-1111 | AG15: =+'1. (영문)신청서'!$AD$30 -> 111-1111-1111 | AH15: =+'1. (영문)신청서'!$AD$31 -> 0 | AI15: =+'1. (영문)신청서'!$I$45 -> 20 | AJ15: =+'1. (영문)신청서'!$O$45 -> 12 | AK15: =+'1. (영문)신청서'!$I$47 -> 10 | AL15: =+'1. (영문)신청서'!$O$47 -> 14 | AM15: =+'1. (영문)신청서'!$G$79 -> Firepowers2 | AN15: =+'1. (영문)신청서'!$C$78 -> Product Number | AO15: =+'1. (영문)신청서'!$M$90 -> 9013809000 | AP15: =+'1. (영문)신청서'!$Q$90 -> * Extra Wide Lens (120 x 70mm) * Allows operators to track moving target with both eyes open, * Main Body is made with CNC machined from a solid block of 6061-T6 aircraft aluminum, * Integrated the recoil compensator retainer prevents loss of target on high recoil weapons. * Integrated trajectory compensator system * Designed Weapons : HMG NATO 12.7mm (M2HB,K6) | AQ15: =+'1. (영문)신청서'!$AJ$90 -> Complete goods
B16: 8 | C16: =+'1. (국문)신청서'!$N$12:$N$12 -> 0 | D16: =+'1. (국문)신청서'!$N$13 -> 111-11-11111 | E16: =+'1. (국문)신청서'!$K$27 -> 0 | F16: =+'1. (국문)신청서'!$K$28 -> 0 | G16: =+'1. (국문)신청서'!$K$29 -> 11-111-1111 | H16: =+'1. (국문)신청서'!$K$30 -> 111-1111-1111 | I16: =+'1. (국문)신청서'!$K$31 -> 0 | J16: =+'1. (국문)신청서'!$AD$27 -> 0 | K16: =+'1. (국문)신청서'!$AD$28 -> 0 | L16: =+'1. (국문)신청서'!$AD$29 -> 11-111-1111 | M16: =+'1. (국문)신청서'!$AD$30 -> 111-1111-1111 | N16: =+'1. (국문)신청서'!$AD$31 -> 0 | O16: =+'1. (국문)신청서'!$I$45 -> 14 | P16: =+'1. (국문)신청서'!$O$45 -> 6 | Q16: =+'1. (국문)신청서'!$I$47 -> 3.7 | R16: =+'1. (국문)신청서'!$O$47 -> 1.3 | S16: ='1. (국문)신청서'!$G$87 -> 화력2 | T16: =+'1. (국문)신청서'!$C$86 -> 제품번호 | U16: =+'1. (국문)신청서'!$M$86 -> 9013100000 | V16: =+'1. (국문)신청서'!$Q$86 -> * 레이저거리측정기(LRF)를 통한 표적 거리정보 제공 * 고해상도 열영상 센서 (640 x 480) * 와이드 디스플레이 스크린 (100 x 56mm) * 탄도보정장치 내장 * 장착가능총기 HMG NATO 12.7mm (M2HB,K6) | W16: =+'1. (국문)신청서'!$AJ$93 -> 0 | X16: =+'1. (영문)신청서'!$N$12 -> 0 | Y16: =+'1. (영문)신청서'!$K$27 -> 0 | Z16: =+'1. (영문)신청서'!$K$28 -> 0 | AA16: =+'1. (영문)신청서'!$K$29 -> 11-111-1111 | AB16: =+'1. (영문)신청서'!$K$30 -> 111-1111-1111 | AC16: =+'1. (영문)신청서'!$K$31 -> 0 | AD16: =+'1. (영문)신청서'!$AD$27 -> 0 | AE16: =+'1. (영문)신청서'!$AD$28 -> 0 | AF16: =+'1. (영문)신청서'!$AD$29 -> 11-111-1111 | AG16: =+'1. (영문)신청서'!$AD$30 -> 111-1111-1111 | AH16: =+'1. (영문)신청서'!$AD$31 -> 0 | AI16: =+'1. (영문)신청서'!$I$45 -> 20 | AJ16: =+'1. (영문)신청서'!$O$45 -> 12 | AK16: =+'1. (영문)신청서'!$I$47 -> 10 | AL16: =+'1. (영문)신청서'!$O$47 -> 14 | AM16: =+'1. (영문)신청서'!$G$79 -> Firepowers2 | AN16: =+'1. (영문)신청서'!$C$78 -> Product Number | AO16: =+'1. (영문)신청서'!$M$90 -> 9013809000 | AP16: =+'1. (영문)신청서'!$Q$90 -> * Extra Wide Lens (120 x 70mm) * Allows operators to track moving target with both eyes open, * Main Body is made with CNC machined from a solid block of 6061-T6 aircraft aluminum, * Integrated the recoil compensator retainer prevents loss of target on high recoil weapons. * Integrated trajectory compensator system * Designed Weapons : HMG NATO 12.7mm (M2HB,K6) | AQ16: =+'1. (영문)신청서'!$AJ$90 -> Complete goods
B17: 9

Sheet 국가명
B2: 국가명 | D2: 판매구분 | F2: 수출가능 유형
B3: Algeria | D3: 생산 | E3: Production | F3: 완제품 | G3: Complete goods
B4: Angola | D4: 개발 | E4: R&D | F4: OEM | G4: OEM
B5: Argentina | D5: 정비 | E5: MRO | F5: ODM | G5: ODM
B6: Australia | D6: 기타 | E6: ETC | F6: 라이센싱 | G6: licensing
B7: Austria | F7: 기술제휴 | G7: Technical Tie-up
B8: Azerbaijan | F8: 유사품목 정비/개조 | G8: Repaire/remodel
B9: Bahrain
B10: Belgium
B11: Brazil
B12: Canada
B13: Chile
B14: China
B15: Colombia | D15: 권역명
B16: Czech Republic | D16: 아시아 | E16: Asia
B17: Denmark | D17: 북아메리카 | E17: North America
B18: Egypt | D18: 중남미 | E18: Latin America
B19: Finland | D19: 유럽 | E19: Europe
B20: France | D20: 중동 | E20: Middle East
B21: Germany | D21: 아프리카 | E21: Africa
B22: Greece | D22: 오세아니아 | E22: Oceania
B23: Hungary
B24: India
B25: Indonesia
B26: Iraq
B27: Israel
B28: Italy
B29: Japan
B30: Kazakhstan
B31: Korea, South
B32: Kuwait
B33: Malaysia
B34: Mexico
... B61: Vietnam
